BEGIN:VCALENDAR
VERSION:2.0
PRODID:-//Reena Senior Living - ECPv6.11.2.1//NONSGML v1.0//EN
CALSCALE:GREGORIAN
METHOD:PUBLISH
X-WR-CALNAME:Reena Senior Living
X-ORIGINAL-URL:https://reenaseniorliving.com
X-WR-CALDESC:Events for Reena Senior Living
REFRESH-INTERVAL;VALUE=DURATION:PT1H
X-Robots-Tag:noindex
X-PUBLISHED-TTL:PT1H
BEGIN:VTIMEZONE
TZID:America/Chicago
BEGIN:DAYLIGHT
TZOFFSETFROM:-0600
TZOFFSETTO:-0500
TZNAME:CDT
DTSTART:20250309T080000
END:DAYLIGHT
BEGIN:STANDARD
TZOFFSETFROM:-0500
TZOFFSETTO:-0600
TZNAME:CST
DTSTART:20251102T070000
END:STANDARD
END:VTIMEZONE
BEGIN:VEVENT
DTSTART;TZID=America/Chicago:20251225T091500
DTEND;TZID=America/Chicago:20251225T094500
DTSTAMP:20260423T080142
CREATED:20251126T093414Z
LAST-MODIFIED:20251209T003407Z
UID:10003351-1766654100-1766655900@reenaseniorliving.com
SUMMARY:Movement Class with Kayla
DESCRIPTION:Gentle Movement\, Strength\, Mobility\, Balance\, & More.
URL:https://reenaseniorliving.com/event-calendar/movement-class-with-kayla-110/
LOCATION:Activity Room
CATEGORIES:Assisted Living
END:VEVENT
BEGIN:VEVENT
DTSTART;TZID=America/Chicago:20251224T160000
DTEND;TZID=America/Chicago:20251224T162000
DTSTAMP:20260423T080142
CREATED:20251125T074916Z
LAST-MODIFIED:20251206T004908Z
UID:10003336-1766592000-1766593200@reenaseniorliving.com
SUMMARY:Walking with Anne! Find the pond view; have a seat and reminisce.
DESCRIPTION:
URL:https://reenaseniorliving.com/event-calendar/walking-with-anne-find-the-pond-view-have-a-seat-and-reminisce-9/
LOCATION:Activity Room
CATEGORIES:Legacy Court
END:VEVENT
BEGIN:VEVENT
DTSTART;TZID=America/Chicago:20251224T143000
DTEND;TZID=America/Chicago:20251224T193000
DTSTAMP:20260423T080142
CREATED:20251202T000416Z
LAST-MODIFIED:20251214T003414Z
UID:10003409-1766586600-1766604600@reenaseniorliving.com
SUMMARY:Room Reserved for family
DESCRIPTION:
URL:https://reenaseniorliving.com/event-calendar/room-reserved-for-family/
LOCATION:Activity Room
CATEGORIES:Assisted Living
END:VEVENT
BEGIN:VEVENT
DTSTART;TZID=America/Chicago:20251224T133000
DTEND;TZID=America/Chicago:20251224T143000
DTSTAMP:20260423T080142
CREATED:20251125T074915Z
LAST-MODIFIED:20251214T013405Z
UID:10003329-1766583000-1766586600@reenaseniorliving.com
SUMMARY:Records with Dorothy
DESCRIPTION:
URL:https://reenaseniorliving.com/event-calendar/records-with-dorothy-15/
LOCATION:Activity Room
CATEGORIES:Legacy Court
END:VEVENT
BEGIN:VEVENT
DTSTART;TZID=America/Chicago:20251224T133000
DTEND;TZID=America/Chicago:20251224T135500
DTSTAMP:20260423T080142
CREATED:20251125T074916Z
LAST-MODIFIED:20251224T020402Z
UID:10003335-1766583000-1766584500@reenaseniorliving.com
SUMMARY:Movement with Balls\, Noodles\, & Weights.
DESCRIPTION:
URL:https://reenaseniorliving.com/event-calendar/movement-with-balls-noodles-weights-22/
LOCATION:Activity Room
CATEGORIES:Legacy Court
END:VEVENT
BEGIN:VEVENT
DTSTART;TZID=America/Chicago:20251224T131500
DTEND;TZID=America/Chicago:20251224T141500
DTSTAMP:20260423T080142
CREATED:20251125T093406Z
LAST-MODIFIED:20251224T010404Z
UID:10003338-1766582100-1766585700@reenaseniorliving.com
SUMMARY:Festive Fling Bean Bags with Urbana Place - Join the Cheer - Play or Watch
DESCRIPTION:
URL:https://reenaseniorliving.com/event-calendar/festive-fling-bean-bags-with-urbana-place-join-the-cheer-play-or-watch/
LOCATION:Activity Room
CATEGORIES:Assisted Living
END:VEVENT
BEGIN:VEVENT
DTSTART;TZID=America/Chicago:20251224T130000
DTEND;TZID=America/Chicago:20251224T134500
DTSTAMP:20260423T080142
CREATED:20251125T074915Z
LAST-MODIFIED:20251212T013447Z
UID:10003328-1766581200-1766583900@reenaseniorliving.com
SUMMARY:Spark - Leg Bike and Quiz
DESCRIPTION:
URL:https://reenaseniorliving.com/event-calendar/spark-leg-bike-and-quiz-7/
LOCATION:Activity Room
CATEGORIES:Legacy Court
END:VEVENT
BEGIN:VEVENT
DTSTART;TZID=America/Chicago:20251224T123000
DTEND;TZID=America/Chicago:20251224T125500
DTSTAMP:20260423T080142
CREATED:20251125T074916Z
LAST-MODIFIED:20251224T020402Z
UID:10003330-1766579400-1766580900@reenaseniorliving.com
SUMMARY:Reading Poetry and Rhymes Together.
DESCRIPTION:
URL:https://reenaseniorliving.com/event-calendar/book-the-sunsets-of-miss-olivia-wiggins-read-by-dorothy-8/
LOCATION:Activity Room
CATEGORIES:Legacy Court
END:VEVENT
BEGIN:VEVENT
DTSTART;TZID=America/Chicago:20251224T094500
DTEND;TZID=America/Chicago:20251224T100500
DTSTAMP:20260423T080142
CREATED:20251215T003412Z
LAST-MODIFIED:20251224T010403Z
UID:10003572-1766569500-1766570700@reenaseniorliving.com
SUMMARY:Winter Walking Group - Self-Paced yet guided by Community Life & Wellness Team
DESCRIPTION:
URL:https://reenaseniorliving.com/event-calendar/winter-walking-group-self-paced-yet-guided-by-community-life-wellness-team/
LOCATION:Activity Room
CATEGORIES:Assisted Living
END:VEVENT
BEGIN:VEVENT
DTSTART;TZID=America/Chicago:20251224T091500
DTEND;TZID=America/Chicago:20251224T094500
DTSTAMP:20260423T080142
CREATED:20251125T093406Z
LAST-MODIFIED:20251224T010403Z
UID:10003337-1766567700-1766569500@reenaseniorliving.com
SUMMARY:Movement Class with Kayla
DESCRIPTION:
URL:https://reenaseniorliving.com/event-calendar/movement-class-with-kayla-109/
LOCATION:Activity Room
CATEGORIES:Assisted Living
END:VEVENT
BEGIN:VEVENT
DTSTART;TZID=America/Chicago:20251223T144500
DTEND;TZID=America/Chicago:20251223T151000
DTSTAMP:20260423T080142
CREATED:20251124T074914Z
LAST-MODIFIED:20251223T020403Z
UID:10003318-1766501100-1766502600@reenaseniorliving.com
SUMMARY:Movement with Balls\, Noodles\, & Weights.
DESCRIPTION:
URL:https://reenaseniorliving.com/event-calendar/movement-with-balls-noodles-weights-21/
LOCATION:Activity Room
CATEGORIES:Legacy Court
END:VEVENT
BEGIN:VEVENT
DTSTART;TZID=America/Chicago:20251223T143000
DTEND;TZID=America/Chicago:20251223T153000
DTSTAMP:20260423T080142
CREATED:20251124T093422Z
LAST-MODIFIED:20251125T093406Z
UID:10003322-1766500200-1766503800@reenaseniorliving.com
SUMMARY:Birthday Party! Highlights of our Birthday Guests Lives.
DESCRIPTION:Cake and Beverage. Community Members with birthdays this month will have time to share something about themselves. It will be followed with music and singing at 3:00.
URL:https://reenaseniorliving.com/event-calendar/birthday-party-highlights-of-our-birthday-guests-lives-3/
LOCATION:Activity Room
CATEGORIES:Assisted Living
END:VEVENT
BEGIN:VEVENT
DTSTART;TZID=America/Chicago:20251223T140000
DTEND;TZID=America/Chicago:20251223T142500
DTSTAMP:20260423T080142
CREATED:20251124T074914Z
LAST-MODIFIED:20251214T013405Z
UID:10003314-1766498400-1766499900@reenaseniorliving.com
SUMMARY:Balance Training with Kayla - Hallway near Activity Room
DESCRIPTION:
URL:https://reenaseniorliving.com/event-calendar/balance-training-with-kayla-hallway-near-activity-room-8/
LOCATION:Activity Room
CATEGORIES:Legacy Court
END:VEVENT
BEGIN:VEVENT
DTSTART;TZID=America/Chicago:20251223T135000
DTEND;TZID=America/Chicago:20251223T141000
DTSTAMP:20260423T080142
CREATED:20251215T013409Z
LAST-MODIFIED:20251223T020403Z
UID:10003589-1766497800-1766499000@reenaseniorliving.com
SUMMARY:Time Slips with Dawn and Laurie!
DESCRIPTION:
URL:https://reenaseniorliving.com/event-calendar/time-slips-with-dawn-and-laurie/
LOCATION:Activity Room
CATEGORIES:Legacy Court
END:VEVENT
BEGIN:VEVENT
DTSTART;TZID=America/Chicago:20251223T133000
DTEND;TZID=America/Chicago:20251223T150000
DTSTAMP:20260423T080142
CREATED:20251210T003412Z
LAST-MODIFIED:20251223T010402Z
UID:10003517-1766496600-1766502000@reenaseniorliving.com
SUMMARY:Laurie is Visiting - Door 2 Door - with some Holiday Cheer!
DESCRIPTION:
URL:https://reenaseniorliving.com/event-calendar/christmas-cheer-beverages/
LOCATION:Activity Room
CATEGORIES:Assisted Living
END:VEVENT
BEGIN:VEVENT
DTSTART;TZID=America/Chicago:20251223T130000
DTEND;TZID=America/Chicago:20251223T133000
DTSTAMP:20260423T080142
CREATED:20251124T074914Z
LAST-MODIFIED:20251223T010402Z
UID:10003315-1766494800-1766496600@reenaseniorliving.com
SUMMARY:Sing a Long Karaoke on TV with Kayla
DESCRIPTION:
URL:https://reenaseniorliving.com/event-calendar/sing-a-long-karaoke-on-tv-with-anne-11/
LOCATION:Activity Room
CATEGORIES:Assisted Living,Legacy Court
END:VEVENT
BEGIN:VEVENT
DTSTART;TZID=America/Chicago:20251223T130000
DTEND;TZID=America/Chicago:20251223T132500
DTSTAMP:20260423T080142
CREATED:20251124T074914Z
LAST-MODIFIED:20251212T013447Z
UID:10003312-1766494800-1766496300@reenaseniorliving.com
SUMMARY:Balloon Ball!
DESCRIPTION:
URL:https://reenaseniorliving.com/event-calendar/balloon-ball-8/
LOCATION:Activity Room
CATEGORIES:Legacy Court
END:VEVENT
BEGIN:VEVENT
DTSTART;TZID=America/Chicago:20251223T123000
DTEND;TZID=America/Chicago:20251223T133000
DTSTAMP:20260423T080142
CREATED:20251215T013409Z
LAST-MODIFIED:20251223T020402Z
UID:10003588-1766493000-1766496600@reenaseniorliving.com
SUMMARY:Christmas Party with Winter Trivia & Bingo!
DESCRIPTION:
URL:https://reenaseniorliving.com/event-calendar/christmas-party-with-winter-trivia-bingo/
LOCATION:Activity Room
CATEGORIES:Legacy Court
END:VEVENT
BEGIN:VEVENT
DTSTART;TZID=America/Chicago:20251223T103000
DTEND;TZID=America/Chicago:20251223T110000
DTSTAMP:20260423T080142
CREATED:20251124T093422Z
LAST-MODIFIED:20251223T010402Z
UID:10003321-1766485800-1766487600@reenaseniorliving.com
SUMMARY:Decorate Corn Hole - Bags Game for Tomorrows Holiday Match with our Minnesota Friends
DESCRIPTION:
URL:https://reenaseniorliving.com/event-calendar/decorate-corn-hole-bags-game-for-tomorrows-match/
LOCATION:Activity Room
CATEGORIES:Assisted Living
END:VEVENT
BEGIN:VEVENT
DTSTART;TZID=America/Chicago:20251223T093000
DTEND;TZID=America/Chicago:20251223T094500
DTSTAMP:20260423T080142
CREATED:20251215T013408Z
LAST-MODIFIED:20251223T020402Z
UID:10003587-1766482200-1766483100@reenaseniorliving.com
SUMMARY:Christmas Trivia
DESCRIPTION:
URL:https://reenaseniorliving.com/event-calendar/christmas-trivia/
LOCATION:Activity Room
CATEGORIES:Legacy Court
END:VEVENT
BEGIN:VEVENT
DTSTART;TZID=America/Chicago:20251223T091500
DTEND;TZID=America/Chicago:20251223T094500
DTSTAMP:20260423T080142
CREATED:20251124T093422Z
LAST-MODIFIED:20251223T010401Z
UID:10003319-1766481300-1766483100@reenaseniorliving.com
SUMMARY:Movement Class with Kayla
DESCRIPTION:
URL:https://reenaseniorliving.com/event-calendar/movement-class-with-kayla-108/
LOCATION:Activity Room
CATEGORIES:Assisted Living
END:VEVENT
BEGIN:VEVENT
DTSTART;TZID=America/Chicago:20251222T151500
DTEND;TZID=America/Chicago:20251222T154000
DTSTAMP:20260423T080142
CREATED:20251123T074917Z
LAST-MODIFIED:20251222T014902Z
UID:10003304-1766416500-1766418000@reenaseniorliving.com
SUMMARY:Movement with Balls\, Noodles\, & Weights.
DESCRIPTION:
URL:https://reenaseniorliving.com/event-calendar/movement-with-balls-noodles-weights-20/
LOCATION:Activity Room
CATEGORIES:Legacy Court
END:VEVENT
BEGIN:VEVENT
DTSTART;TZID=America/Chicago:20251222T124500
DTEND;TZID=America/Chicago:20251222T143000
DTSTAMP:20260423T080142
CREATED:20251123T093408Z
LAST-MODIFIED:20251222T004902Z
UID:10003307-1766407500-1766413800@reenaseniorliving.com
SUMMARY:Walmart Shopping - Sign-up in Activity Room Book
DESCRIPTION:
URL:https://reenaseniorliving.com/event-calendar/bingo-64/
LOCATION:Activity Room
CATEGORIES:Assisted Living
END:VEVENT
BEGIN:VEVENT
DTSTART;TZID=America/Chicago:20251222T095000
DTEND;TZID=America/Chicago:20251222T101500
DTSTAMP:20260423T080142
CREATED:20251215T003412Z
LAST-MODIFIED:20251222T004901Z
UID:10003571-1766397000-1766398500@reenaseniorliving.com
SUMMARY:Biking Class - Introduction & Interval Training - Leave feeling refreshed and invigorated!
DESCRIPTION:
URL:https://reenaseniorliving.com/event-calendar/biking-class-introduction-interval-training-leave-feeling-refreshed-and-invigorated/
LOCATION:Activity Room
CATEGORIES:Assisted Living
END:VEVENT
BEGIN:VEVENT
DTSTART;TZID=America/Chicago:20251222T091500
DTEND;TZID=America/Chicago:20251222T094500
DTSTAMP:20260423T080142
CREATED:20251123T093408Z
LAST-MODIFIED:20251222T004901Z
UID:10003306-1766394900-1766396700@reenaseniorliving.com
SUMMARY:Movement with Kayla (AR) Leg Strength Focus Today
DESCRIPTION:
URL:https://reenaseniorliving.com/event-calendar/movement-with-kayla-17/
LOCATION:Activity Room
CATEGORIES:Assisted Living
END:VEVENT
BEGIN:VEVENT
DTSTART;TZID=America/Chicago:20251220T103000
DTEND;TZID=America/Chicago:20251220T113000
DTSTAMP:20260423T080142
CREATED:20251121T091913Z
LAST-MODIFIED:20251220T004901Z
UID:10003293-1766226600-1766230200@reenaseniorliving.com
SUMMARY:* Piano Recital with Students of Nicole Butzine.
DESCRIPTION:
URL:https://reenaseniorliving.com/event-calendar/piano-recital/
LOCATION:Activity Room
CATEGORIES:Assisted Living
END:VEVENT
BEGIN:VEVENT
DTSTART;TZID=America/Chicago:20251219T150000
DTEND;TZID=America/Chicago:20251219T151500
DTSTAMP:20260423T080142
CREATED:20251120T091906Z
LAST-MODIFIED:20251219T003401Z
UID:10003287-1766156400-1766157300@reenaseniorliving.com
SUMMARY:Your weekly activity packets will be delivered.
DESCRIPTION:
URL:https://reenaseniorliving.com/event-calendar/your-weekly-activity-packets-will-be-delivered-32/
LOCATION:Activity Room
CATEGORIES:Assisted Living
END:VEVENT
BEGIN:VEVENT
DTSTART;TZID=America/Chicago:20251219T130000
DTEND;TZID=America/Chicago:20251219T134500
DTSTAMP:20260423T080142
CREATED:20251120T091906Z
LAST-MODIFIED:20251210T003411Z
UID:10003286-1766149200-1766151900@reenaseniorliving.com
SUMMARY:The Big Show - Weekly update on Lifespark Challenge
DESCRIPTION:
URL:https://reenaseniorliving.com/event-calendar/the-big-show-weekly-update-on-lifespark-challenge-10/
LOCATION:Activity Room
CATEGORIES:Assisted Living
END:VEVENT
BEGIN:VEVENT
DTSTART;TZID=America/Chicago:20251219T123000
DTEND;TZID=America/Chicago:20251219T131500
DTSTAMP:20260423T080142
CREATED:20251207T004938Z
LAST-MODIFIED:20251219T014903Z
UID:10003475-1766147400-1766150100@reenaseniorliving.com
SUMMARY:Group Movement Class - Strength and Mobility
DESCRIPTION:
URL:https://reenaseniorliving.com/event-calendar/group-movement-class-strength-and-mobility-2/
LOCATION:Activity Room
CATEGORIES:Legacy Court
END:VEVENT
BEGIN:VEVENT
DTSTART;TZID=America/Chicago:20251219T100000
DTEND;TZID=America/Chicago:20251219T111500
DTSTAMP:20260423T080142
CREATED:20251213T013408Z
LAST-MODIFIED:20251219T014902Z
UID:10003557-1766138400-1766142900@reenaseniorliving.com
SUMMARY:Decorate Memorial Tree - Festive Time Together
DESCRIPTION:
URL:https://reenaseniorliving.com/event-calendar/decorate-memorial-tree-festive-time-together/
LOCATION:Activity Room
CATEGORIES:Legacy Court
END:VEVENT
END:VCALENDAR