BEGIN:VCALENDAR
VERSION:2.0
PRODID:-//Reena Senior Living - ECPv6.11.2.1//NONSGML v1.0//EN
CALSCALE:GREGORIAN
METHOD:PUBLISH
X-WR-CALNAME:Reena Senior Living
X-ORIGINAL-URL:https://reenaseniorliving.com
X-WR-CALDESC:Events for Reena Senior Living
REFRESH-INTERVAL;VALUE=DURATION:PT1H
X-Robots-Tag:noindex
X-PUBLISHED-TTL:PT1H
BEGIN:VTIMEZONE
TZID:America/Chicago
BEGIN:DAYLIGHT
TZOFFSETFROM:-0600
TZOFFSETTO:-0500
TZNAME:CDT
DTSTART:20250309T080000
END:DAYLIGHT
BEGIN:STANDARD
TZOFFSETFROM:-0500
TZOFFSETTO:-0600
TZNAME:CST
DTSTART:20251102T070000
END:STANDARD
END:VTIMEZONE
BEGIN:VEVENT
DTSTART;TZID=America/Chicago:20251218T130000
DTEND;TZID=America/Chicago:20251218T140000
DTSTAMP:20260423T140124
CREATED:20251126T093412Z
LAST-MODIFIED:20251218T003403Z
UID:10003350-1766062800-1766066400@reenaseniorliving.com
SUMMARY:December Birthday Party! Come Join Us!
DESCRIPTION:
URL:https://reenaseniorliving.com/event-calendar/december-birthday-party-come-join-us/
LOCATION:Activity Room
CATEGORIES:Assisted Living
END:VEVENT
BEGIN:VEVENT
DTSTART;TZID=America/Chicago:20251218T093000
DTEND;TZID=America/Chicago:20251218T103000
DTSTAMP:20260423T140124
CREATED:20251119T074920Z
LAST-MODIFIED:20251212T013446Z
UID:10003253-1766050200-1766053800@reenaseniorliving.com
SUMMARY:Christmas Art and Projects
DESCRIPTION:
URL:https://reenaseniorliving.com/event-calendar/make-happy-thanksgiving-for-our-friends-at-luther-elementary-with-linked-senior-music-7/
LOCATION:Activity Room
CATEGORIES:Legacy Court
END:VEVENT
BEGIN:VEVENT
DTSTART;TZID=America/Chicago:20251218T091500
DTEND;TZID=America/Chicago:20251218T094500
DTSTAMP:20260423T140124
CREATED:20251119T091905Z
LAST-MODIFIED:20251218T003403Z
UID:10003264-1766049300-1766051100@reenaseniorliving.com
SUMMARY:Movement Class with Kayla
DESCRIPTION:Gentle Movement\, Strength\, Mobility\, Balance\, & More.
URL:https://reenaseniorliving.com/event-calendar/movement-class-with-kayla-106/
LOCATION:Activity Room
CATEGORIES:Assisted Living
END:VEVENT
BEGIN:VEVENT
DTSTART;TZID=America/Chicago:20251217T180000
DTEND;TZID=America/Chicago:20251217T183000
DTSTAMP:20260423T140124
CREATED:20251118T074940Z
LAST-MODIFIED:20251217T013403Z
UID:10003249-1765994400-1765996200@reenaseniorliving.com
SUMMARY:St. Joe's Christmas Carolers
DESCRIPTION:
URL:https://reenaseniorliving.com/event-calendar/st-joes-christmas-carolers/
LOCATION:Activity Room
CATEGORIES:Legacy Court
END:VEVENT
BEGIN:VEVENT
DTSTART;TZID=America/Chicago:20251217T173000
DTEND;TZID=America/Chicago:20251217T180000
DTSTAMP:20260423T140124
CREATED:20251118T091927Z
LAST-MODIFIED:20251217T003402Z
UID:10003251-1765992600-1765994400@reenaseniorliving.com
SUMMARY:* St. Joes's Christmas Caroling Group.
DESCRIPTION:
URL:https://reenaseniorliving.com/event-calendar/st-joess-christmas-caroling-group/
LOCATION:Activity Room
CATEGORIES:Assisted Living
END:VEVENT
BEGIN:VEVENT
DTSTART;TZID=America/Chicago:20251217T160000
DTEND;TZID=America/Chicago:20251217T162000
DTSTAMP:20260423T140124
CREATED:20251118T074940Z
LAST-MODIFIED:20251206T004906Z
UID:10003248-1765987200-1765988400@reenaseniorliving.com
SUMMARY:Walking with Anne! Find the pond view; have a seat and reminisce.
DESCRIPTION:
URL:https://reenaseniorliving.com/event-calendar/walking-with-anne-find-the-pond-view-have-a-seat-and-reminisce-8/
LOCATION:Activity Room
CATEGORIES:Legacy Court
END:VEVENT
BEGIN:VEVENT
DTSTART;TZID=America/Chicago:20251217T151500
DTEND;TZID=America/Chicago:20251217T154000
DTSTAMP:20260423T140124
CREATED:20251118T074940Z
LAST-MODIFIED:20251217T013403Z
UID:10003247-1765984500-1765986000@reenaseniorliving.com
SUMMARY:Movement with Balls\, Noodles\, & Weights.
DESCRIPTION:
URL:https://reenaseniorliving.com/event-calendar/movement-with-balls-noodles-weights-19/
LOCATION:Activity Room
CATEGORIES:Legacy Court
END:VEVENT
BEGIN:VEVENT
DTSTART;TZID=America/Chicago:20251217T140000
DTEND;TZID=America/Chicago:20251217T142500
DTSTAMP:20260423T140124
CREATED:20251118T074939Z
LAST-MODIFIED:20251212T013445Z
UID:10003242-1765980000-1765981500@reenaseniorliving.com
SUMMARY:Book: The Sunsets of Miss Olivia Wiggins - Read by: Dorothy
DESCRIPTION:
URL:https://reenaseniorliving.com/event-calendar/book-the-sunsets-of-miss-olivia-wiggins-read-by-dorothy-7/
LOCATION:Activity Room
CATEGORIES:Legacy Court
END:VEVENT
BEGIN:VEVENT
DTSTART;TZID=America/Chicago:20251217T133000
DTEND;TZID=America/Chicago:20251217T143000
DTSTAMP:20260423T140124
CREATED:20251118T074939Z
LAST-MODIFIED:20251212T013445Z
UID:10003240-1765978200-1765981800@reenaseniorliving.com
SUMMARY:Records with Dorothy
DESCRIPTION:
URL:https://reenaseniorliving.com/event-calendar/records-with-dorothy-14/
LOCATION:Activity Room
CATEGORIES:Legacy Court
END:VEVENT
BEGIN:VEVENT
DTSTART;TZID=America/Chicago:20251217T130000
DTEND;TZID=America/Chicago:20251217T134500
DTSTAMP:20260423T140124
CREATED:20251118T074939Z
LAST-MODIFIED:20251212T013445Z
UID:10003239-1765976400-1765979100@reenaseniorliving.com
SUMMARY:Spark - Leg Bike and Quiz
DESCRIPTION:
URL:https://reenaseniorliving.com/event-calendar/spark-leg-bike-and-quiz-6/
LOCATION:Activity Room
CATEGORIES:Legacy Court
END:VEVENT
BEGIN:VEVENT
DTSTART;TZID=America/Chicago:20251217T100000
DTEND;TZID=America/Chicago:20251217T103000
DTSTAMP:20260423T140124
CREATED:20251211T003405Z
LAST-MODIFIED:20251217T003402Z
UID:10003532-1765965600-1765967400@reenaseniorliving.com
SUMMARY:Coffee and Treat with Lori from Fox Therapy.
DESCRIPTION:
URL:https://reenaseniorliving.com/event-calendar/coffee-and-treat-with-lori-from-fox-therapy/
LOCATION:Activity Room
CATEGORIES:Assisted Living
END:VEVENT
BEGIN:VEVENT
DTSTART;TZID=America/Chicago:20251217T091500
DTEND;TZID=America/Chicago:20251217T095000
DTSTAMP:20260423T140124
CREATED:20251118T091927Z
LAST-MODIFIED:20251217T003402Z
UID:10003250-1765962900-1765965000@reenaseniorliving.com
SUMMARY:Movement with Lori from Fox Therapy
DESCRIPTION:
URL:https://reenaseniorliving.com/event-calendar/movement-class-with-kayla-105/
LOCATION:Activity Room
CATEGORIES:Assisted Living
END:VEVENT
BEGIN:VEVENT
DTSTART;TZID=America/Chicago:20251216T151500
DTEND;TZID=America/Chicago:20251216T154000
DTSTAMP:20260423T140124
CREATED:20251117T074915Z
LAST-MODIFIED:20251216T013405Z
UID:10003229-1765898100-1765899600@reenaseniorliving.com
SUMMARY:Movement with Balls\, Noodles\, & Weights.
DESCRIPTION:
URL:https://reenaseniorliving.com/event-calendar/movement-with-balls-noodles-weights-18/
LOCATION:Activity Room
CATEGORIES:Legacy Court
END:VEVENT
BEGIN:VEVENT
DTSTART;TZID=America/Chicago:20251216T140000
DTEND;TZID=America/Chicago:20251216T144500
DTSTAMP:20260423T140124
CREATED:20251126T093412Z
LAST-MODIFIED:20251216T003402Z
UID:10003349-1765893600-1765896300@reenaseniorliving.com
SUMMARY:Roll out Candy and Put in Baggies
DESCRIPTION:
URL:https://reenaseniorliving.com/event-calendar/roll-out-candy-and-baggie/
LOCATION:Activity Room
CATEGORIES:Assisted Living
END:VEVENT
BEGIN:VEVENT
DTSTART;TZID=America/Chicago:20251216T130000
DTEND;TZID=America/Chicago:20251216T132500
DTSTAMP:20260423T140124
CREATED:20251117T074915Z
LAST-MODIFIED:20251216T013404Z
UID:10003226-1765890000-1765891500@reenaseniorliving.com
SUMMARY:Balance Training with Kayla - Hallway near Activity Room
DESCRIPTION:
URL:https://reenaseniorliving.com/event-calendar/balance-training-with-kayla-hallway-near-activity-room-7/
LOCATION:Activity Room
CATEGORIES:Legacy Court
END:VEVENT
BEGIN:VEVENT
DTSTART;TZID=America/Chicago:20251216T130000
DTEND;TZID=America/Chicago:20251216T132500
DTSTAMP:20260423T140124
CREATED:20251117T074914Z
LAST-MODIFIED:20251212T013444Z
UID:10003224-1765890000-1765891500@reenaseniorliving.com
SUMMARY:Balloon Ball!
DESCRIPTION:
URL:https://reenaseniorliving.com/event-calendar/balloon-ball-7/
LOCATION:Activity Room
CATEGORIES:Legacy Court
END:VEVENT
BEGIN:VEVENT
DTSTART;TZID=America/Chicago:20251216T100000
DTEND;TZID=America/Chicago:20251216T113000
DTSTAMP:20260423T140124
CREATED:20251126T093412Z
LAST-MODIFIED:20251216T003402Z
UID:10003348-1765879200-1765884600@reenaseniorliving.com
SUMMARY:* Making Christmas Candy and Fudge with Linda (your retired front desk person)
DESCRIPTION:
URL:https://reenaseniorliving.com/event-calendar/christmas-crack-and-fudge-making-with-linda/
LOCATION:Activity Room
CATEGORIES:Assisted Living
END:VEVENT
BEGIN:VEVENT
DTSTART;TZID=America/Chicago:20251216T100000
DTEND;TZID=America/Chicago:20251216T110000
DTSTAMP:20260423T140124
CREATED:20251213T013407Z
LAST-MODIFIED:20251216T013404Z
UID:10003552-1765879200-1765882800@reenaseniorliving.com
SUMMARY:Christmas Cards and Thank you Card Making.
DESCRIPTION:
URL:https://reenaseniorliving.com/event-calendar/christmas-cards-and-thank-you-card-making/
LOCATION:Activity Room
CATEGORIES:Legacy Court
END:VEVENT
BEGIN:VEVENT
DTSTART;TZID=America/Chicago:20251216T091500
DTEND;TZID=America/Chicago:20251216T094500
DTSTAMP:20260423T140124
CREATED:20251117T091909Z
LAST-MODIFIED:20251216T003402Z
UID:10003232-1765876500-1765878300@reenaseniorliving.com
SUMMARY:Movement Class with Kayla
DESCRIPTION:
URL:https://reenaseniorliving.com/event-calendar/movement-class-with-kayla-104/
LOCATION:Activity Room
CATEGORIES:Assisted Living
END:VEVENT
BEGIN:VEVENT
DTSTART;TZID=America/Chicago:20251215T151500
DTEND;TZID=America/Chicago:20251215T154000
DTSTAMP:20260423T140124
CREATED:20251116T074912Z
LAST-MODIFIED:20251215T013403Z
UID:10003215-1765811700-1765813200@reenaseniorliving.com
SUMMARY:Movement with Balls\, Noodles\, & Weights.
DESCRIPTION:
URL:https://reenaseniorliving.com/event-calendar/movement-with-balls-noodles-weights-17/
LOCATION:Activity Room
CATEGORIES:Legacy Court
END:VEVENT
BEGIN:VEVENT
DTSTART;TZID=America/Chicago:20251215T130000
DTEND;TZID=America/Chicago:20251215T140000
DTSTAMP:20260423T140124
CREATED:20251116T091909Z
LAST-MODIFIED:20251215T003411Z
UID:10003219-1765803600-1765807200@reenaseniorliving.com
SUMMARY:* Special Bingo Day with Kayla!
DESCRIPTION:
URL:https://reenaseniorliving.com/event-calendar/bingo-62/
LOCATION:Activity Room
CATEGORIES:Assisted Living
END:VEVENT
BEGIN:VEVENT
DTSTART;TZID=America/Chicago:20251215T101500
DTEND;TZID=America/Chicago:20251215T113000
DTSTAMP:20260423T140124
CREATED:20251116T091909Z
LAST-MODIFIED:20251215T003411Z
UID:10003218-1765793700-1765798200@reenaseniorliving.com
SUMMARY:* Trinity Lutheran Visit - Holiday Sing along & Trivia with Coffee Social Hour. All Are Welcome!
DESCRIPTION:Coffee will be offered. Please join us.
URL:https://reenaseniorliving.com/event-calendar/trinity-lutheran-visit-holiday-sing-along-with-coffee-social-hour/
LOCATION:Activity Room
CATEGORIES:Assisted Living
END:VEVENT
BEGIN:VEVENT
DTSTART;TZID=America/Chicago:20251215T091500
DTEND;TZID=America/Chicago:20251215T094500
DTSTAMP:20260423T140124
CREATED:20251116T091909Z
LAST-MODIFIED:20251215T003411Z
UID:10003217-1765790100-1765791900@reenaseniorliving.com
SUMMARY:Movement with Kayla (AR)
DESCRIPTION:
URL:https://reenaseniorliving.com/event-calendar/movement-with-kayla-16/
LOCATION:Activity Room
CATEGORIES:Assisted Living
END:VEVENT
BEGIN:VEVENT
DTSTART;TZID=America/Chicago:20251213T133000
DTEND;TZID=America/Chicago:20251213T140000
DTSTAMP:20260423T140124
CREATED:20251207T004935Z
LAST-MODIFIED:20251213T013408Z
UID:10003474-1765632600-1765634400@reenaseniorliving.com
SUMMARY:Movement with Balls\, Noodles\, & Weights.
DESCRIPTION:
URL:https://reenaseniorliving.com/event-calendar/movement-with-balls-noodles-weights-26/
LOCATION:Activity Room
CATEGORIES:Legacy Court
END:VEVENT
BEGIN:VEVENT
DTSTART;TZID=America/Chicago:20251213T130000
DTEND;TZID=America/Chicago:20251213T132000
DTSTAMP:20260423T140124
CREATED:20251114T091917Z
LAST-MODIFIED:20251213T003401Z
UID:10003202-1765630800-1765632000@reenaseniorliving.com
SUMMARY:Fort Zando Caroling Octet. They're Stopping in to Spread Some Holiday Cheer.
DESCRIPTION:
URL:https://reenaseniorliving.com/event-calendar/fort-zando-caroling-octet/
LOCATION:Activity Room
CATEGORIES:Assisted Living
END:VEVENT
BEGIN:VEVENT
DTSTART;TZID=America/Chicago:20251213T123000
DTEND;TZID=America/Chicago:20251213T125500
DTSTAMP:20260423T140124
CREATED:20251114T074914Z
LAST-MODIFIED:20251213T013408Z
UID:10003199-1765629000-1765630500@reenaseniorliving.com
SUMMARY:Fort Zando Caroling Quartet.
DESCRIPTION:Time\, Benjamin\, and two others
URL:https://reenaseniorliving.com/event-calendar/fort-zando-caroling-quartet/
LOCATION:Activity Room
CATEGORIES:Legacy Court
END:VEVENT
BEGIN:VEVENT
DTSTART;TZID=America/Chicago:20251213T100000
DTEND;TZID=America/Chicago:20251213T113000
DTSTAMP:20260423T140124
CREATED:20251128T122010Z
LAST-MODIFIED:20251213T003401Z
UID:10003373-1765620000-1765625400@reenaseniorliving.com
SUMMARY:Nails with Laurie - Sign-up
DESCRIPTION:
URL:https://reenaseniorliving.com/event-calendar/nails-with-laurie-sign-up-7/
LOCATION:Activity Room
CATEGORIES:Assisted Living
END:VEVENT
BEGIN:VEVENT
DTSTART;TZID=America/Chicago:20251212T150000
DTEND;TZID=America/Chicago:20251212T160000
DTSTAMP:20260423T140124
CREATED:20251207T004934Z
LAST-MODIFIED:20251212T013443Z
UID:10003473-1765551600-1765555200@reenaseniorliving.com
SUMMARY:Christmas Sing along!
DESCRIPTION:
URL:https://reenaseniorliving.com/event-calendar/christmas-sing-along/
LOCATION:Activity Room
CATEGORIES:Legacy Court
END:VEVENT
BEGIN:VEVENT
DTSTART;TZID=America/Chicago:20251212T150000
DTEND;TZID=America/Chicago:20251212T151500
DTSTAMP:20260423T140124
CREATED:20251113T091908Z
LAST-MODIFIED:20251212T003402Z
UID:10003197-1765551600-1765552500@reenaseniorliving.com
SUMMARY:Your weekly activity packets will be delivered.
DESCRIPTION:
URL:https://reenaseniorliving.com/event-calendar/your-weekly-activity-packets-will-be-delivered-31/
LOCATION:Activity Room
CATEGORIES:Assisted Living
END:VEVENT
BEGIN:VEVENT
DTSTART;TZID=America/Chicago:20251212T143000
DTEND;TZID=America/Chicago:20251212T145000
DTSTAMP:20260423T140124
CREATED:20251113T091908Z
LAST-MODIFIED:20251212T003402Z
UID:10003196-1765549800-1765551000@reenaseniorliving.com
SUMMARY:Explore Zumba Gold with Jazzie Jen!
DESCRIPTION:
URL:https://reenaseniorliving.com/event-calendar/explore-zumba-gold-with-jazzie-jen/
LOCATION:Activity Room
CATEGORIES:Assisted Living
END:VEVENT
END:VCALENDAR