BEGIN:VCALENDAR
VERSION:2.0
PRODID:-//Reena Senior Living - ECPv6.11.2.1//NONSGML v1.0//EN
CALSCALE:GREGORIAN
METHOD:PUBLISH
X-WR-CALNAME:Reena Senior Living
X-ORIGINAL-URL:https://reenaseniorliving.com
X-WR-CALDESC:Events for Reena Senior Living
REFRESH-INTERVAL;VALUE=DURATION:PT1H
X-Robots-Tag:noindex
X-PUBLISHED-TTL:PT1H
BEGIN:VTIMEZONE
TZID:America/Chicago
BEGIN:DAYLIGHT
TZOFFSETFROM:-0600
TZOFFSETTO:-0500
TZNAME:CDT
DTSTART:20250309T080000
END:DAYLIGHT
BEGIN:STANDARD
TZOFFSETFROM:-0500
TZOFFSETTO:-0600
TZNAME:CST
DTSTART:20251102T070000
END:STANDARD
END:VTIMEZONE
BEGIN:VEVENT
DTSTART;TZID=America/Chicago:20251212T143000
DTEND;TZID=America/Chicago:20251212T145000
DTSTAMP:20260423T172229
CREATED:20251113T091908Z
LAST-MODIFIED:20251212T003402Z
UID:10003196-1765549800-1765551000@reenaseniorliving.com
SUMMARY:Explore Zumba Gold with Jazzie Jen!
DESCRIPTION:
URL:https://reenaseniorliving.com/event-calendar/explore-zumba-gold-with-jazzie-jen/
LOCATION:Activity Room
CATEGORIES:Assisted Living
END:VEVENT
BEGIN:VEVENT
DTSTART;TZID=America/Chicago:20251212T140000
DTEND;TZID=America/Chicago:20251212T143000
DTSTAMP:20260423T172229
CREATED:20251113T091908Z
LAST-MODIFIED:20251212T003402Z
UID:10003195-1765548000-1765549800@reenaseniorliving.com
SUMMARY:Drums Alive Jazzie Jen!
DESCRIPTION:
URL:https://reenaseniorliving.com/event-calendar/drums-alive-jazzie-jen/
LOCATION:Activity Room
CATEGORIES:Assisted Living
END:VEVENT
BEGIN:VEVENT
DTSTART;TZID=America/Chicago:20251212T123000
DTEND;TZID=America/Chicago:20251212T131500
DTSTAMP:20260423T172229
CREATED:20251207T004934Z
LAST-MODIFIED:20251212T013443Z
UID:10003472-1765542600-1765545300@reenaseniorliving.com
SUMMARY:Group Movement Class - Strength and Mobility
DESCRIPTION:
URL:https://reenaseniorliving.com/event-calendar/group-movement-class-strength-and-mobility/
LOCATION:Activity Room
CATEGORIES:Legacy Court
END:VEVENT
BEGIN:VEVENT
DTSTART;TZID=America/Chicago:20251212T103000
DTEND;TZID=America/Chicago:20251212T111000
DTSTAMP:20260423T172229
CREATED:20251207T003407Z
LAST-MODIFIED:20251212T003401Z
UID:10003458-1765535400-1765537800@reenaseniorliving.com
SUMMARY:Coffee or Milk - Reminiscing with Slides Shows of Chritmas Season
DESCRIPTION:
URL:https://reenaseniorliving.com/event-calendar/coffee-or-milk-reminiscing-with-slides-shows-of-chritmas-season/
LOCATION:Activity Room
CATEGORIES:Assisted Living
END:VEVENT
BEGIN:VEVENT
DTSTART;TZID=America/Chicago:20251212T093000
DTEND;TZID=America/Chicago:20251212T103000
DTSTAMP:20260423T172229
CREATED:20251207T004934Z
LAST-MODIFIED:20251212T013443Z
UID:10003470-1765531800-1765535400@reenaseniorliving.com
SUMMARY:Christmas Art and Projects
DESCRIPTION:
URL:https://reenaseniorliving.com/event-calendar/christmas-art-and-projects-2/
LOCATION:Activity Room
CATEGORIES:Legacy Court
END:VEVENT
BEGIN:VEVENT
DTSTART;TZID=America/Chicago:20251212T091500
DTEND;TZID=America/Chicago:20251212T094500
DTSTAMP:20260423T172229
CREATED:20251113T091908Z
LAST-MODIFIED:20251212T003401Z
UID:10003193-1765530900-1765532700@reenaseniorliving.com
SUMMARY:Movement Class with Kayla
DESCRIPTION:
URL:https://reenaseniorliving.com/event-calendar/movement-class-with-kayla-103/
LOCATION:Activity Room
CATEGORIES:Assisted Living
END:VEVENT
BEGIN:VEVENT
DTSTART;TZID=America/Chicago:20251211T171500
DTEND;TZID=America/Chicago:20251211T190000
DTSTAMP:20260423T172229
CREATED:20251112T091905Z
LAST-MODIFIED:20251126T093411Z
UID:10003171-1765473300-1765479600@reenaseniorliving.com
SUMMARY:Hand & Foot Cards & Trouble the Board Game.
DESCRIPTION:
URL:https://reenaseniorliving.com/event-calendar/hand-foot-cards-trouble-the-board-game-4/
LOCATION:Activity Room
CATEGORIES:Assisted Living
END:VEVENT
BEGIN:VEVENT
DTSTART;TZID=America/Chicago:20251211T153000
DTEND;TZID=America/Chicago:20251211T161500
DTSTAMP:20260423T172229
CREATED:20251207T004934Z
LAST-MODIFIED:20251211T010409Z
UID:10003469-1765467000-1765469700@reenaseniorliving.com
SUMMARY:Christmas Game!
DESCRIPTION:
URL:https://reenaseniorliving.com/event-calendar/christmas-game/
LOCATION:Activity Room
CATEGORIES:Legacy Court
END:VEVENT
BEGIN:VEVENT
DTSTART;TZID=America/Chicago:20251211T143000
DTEND;TZID=America/Chicago:20251211T153000
DTSTAMP:20260423T172229
CREATED:20251112T074912Z
LAST-MODIFIED:20251206T004903Z
UID:10003164-1765463400-1765467000@reenaseniorliving.com
SUMMARY:Championships
DESCRIPTION:
URL:https://reenaseniorliving.com/event-calendar/championships-2/
LOCATION:Activity Room
CATEGORIES:Legacy Court
END:VEVENT
BEGIN:VEVENT
DTSTART;TZID=America/Chicago:20251211T133000
DTEND;TZID=America/Chicago:20251211T135500
DTSTAMP:20260423T172229
CREATED:20251207T004934Z
LAST-MODIFIED:20251211T010409Z
UID:10003467-1765459800-1765461300@reenaseniorliving.com
SUMMARY:Balloon Volleyball with Christmas Music.
DESCRIPTION:
URL:https://reenaseniorliving.com/event-calendar/balloon-volleyball-with-christmas-music/
LOCATION:Activity Room
CATEGORIES:Legacy Court
END:VEVENT
BEGIN:VEVENT
DTSTART;TZID=America/Chicago:20251211T130000
DTEND;TZID=America/Chicago:20251211T140000
DTSTAMP:20260423T172229
CREATED:20251112T091905Z
LAST-MODIFIED:20251211T003405Z
UID:10003170-1765458000-1765461600@reenaseniorliving.com
SUMMARY:Championships! Whether we're in it or not\, let's celebrate and watch the teams race to the finish.
DESCRIPTION:
URL:https://reenaseniorliving.com/event-calendar/championships-3/
LOCATION:Activity Room
CATEGORIES:Assisted Living
END:VEVENT
BEGIN:VEVENT
DTSTART;TZID=America/Chicago:20251211T130000
DTEND;TZID=America/Chicago:20251211T140000
DTSTAMP:20260423T172229
CREATED:20251112T074912Z
LAST-MODIFIED:20251206T004903Z
UID:10003163-1765458000-1765461600@reenaseniorliving.com
SUMMARY:championships?
DESCRIPTION:
URL:https://reenaseniorliving.com/event-calendar/championships/
LOCATION:Activity Room
CATEGORIES:Legacy Court
END:VEVENT
BEGIN:VEVENT
DTSTART;TZID=America/Chicago:20251211T103000
DTEND;TZID=America/Chicago:20251211T111500
DTSTAMP:20260423T172229
CREATED:20251112T074912Z
LAST-MODIFIED:20251206T004903Z
UID:10003160-1765449000-1765451700@reenaseniorliving.com
SUMMARY:Let's Make Bread.
DESCRIPTION:
URL:https://reenaseniorliving.com/event-calendar/lets-make-bread-19/
LOCATION:Activity Room
CATEGORIES:Legacy Court
END:VEVENT
BEGIN:VEVENT
DTSTART;TZID=America/Chicago:20251211T093000
DTEND;TZID=America/Chicago:20251211T103000
DTSTAMP:20260423T172229
CREATED:20251112T074912Z
LAST-MODIFIED:20251206T004903Z
UID:10003159-1765445400-1765449000@reenaseniorliving.com
SUMMARY:Christmas Art and Projects
DESCRIPTION:
URL:https://reenaseniorliving.com/event-calendar/make-happy-thanksgiving-for-our-friends-at-luther-elementary-with-linked-senior-music-6/
LOCATION:Activity Room
CATEGORIES:Legacy Court
END:VEVENT
BEGIN:VEVENT
DTSTART;TZID=America/Chicago:20251211T091500
DTEND;TZID=America/Chicago:20251211T094500
DTSTAMP:20260423T172229
CREATED:20251112T091904Z
LAST-MODIFIED:20251211T003405Z
UID:10003168-1765444500-1765446300@reenaseniorliving.com
SUMMARY:Movement Class with Kayla
DESCRIPTION:Gentle Movement\, Strength\, Mobility\, Balance\, & More.
URL:https://reenaseniorliving.com/event-calendar/movement-class-with-kayla-101/
LOCATION:Activity Room
CATEGORIES:Assisted Living
END:VEVENT
BEGIN:VEVENT
DTSTART;TZID=America/Chicago:20251210T173000
DTEND;TZID=America/Chicago:20251210T184500
DTSTAMP:20260423T172229
CREATED:20251207T003407Z
LAST-MODIFIED:20251211T003405Z
UID:10003456-1765387800-1765392300@reenaseniorliving.com
SUMMARY:Nails with Laurie - sign-up
DESCRIPTION:
URL:https://reenaseniorliving.com/event-calendar/nails-with-laurie-sign-up-8/
LOCATION:Activity Room
CATEGORIES:Assisted Living
END:VEVENT
BEGIN:VEVENT
DTSTART;TZID=America/Chicago:20251210T160000
DTEND;TZID=America/Chicago:20251210T162000
DTSTAMP:20260423T172229
CREATED:20251111T073424Z
LAST-MODIFIED:20251206T004903Z
UID:10003152-1765382400-1765383600@reenaseniorliving.com
SUMMARY:Walking with Anne! Find the pond view; have a seat and reminisce.
DESCRIPTION:
URL:https://reenaseniorliving.com/event-calendar/walking-with-anne-find-the-pond-view-have-a-seat-and-reminisce-7/
LOCATION:Activity Room
CATEGORIES:Legacy Court
END:VEVENT
BEGIN:VEVENT
DTSTART;TZID=America/Chicago:20251210T135500
DTEND;TZID=America/Chicago:20251210T141000
DTSTAMP:20260423T172229
CREATED:20251111T073423Z
LAST-MODIFIED:20251210T010410Z
UID:10003146-1765374900-1765375800@reenaseniorliving.com
SUMMARY:Reading by: Volunteer Dorothy
DESCRIPTION:
URL:https://reenaseniorliving.com/event-calendar/book-the-sunsets-of-miss-olivia-wiggins-read-by-dorothy-6/
LOCATION:Activity Room
CATEGORIES:Legacy Court
END:VEVENT
BEGIN:VEVENT
DTSTART;TZID=America/Chicago:20251210T132000
DTEND;TZID=America/Chicago:20251210T133500
DTSTAMP:20260423T172229
CREATED:20251207T003407Z
LAST-MODIFIED:20251210T003411Z
UID:10003455-1765372800-1765373700@reenaseniorliving.com
SUMMARY:PBS - Retracing Lorine Niedecker's 'Lake Superior' Ep 6
DESCRIPTION:
URL:https://reenaseniorliving.com/event-calendar/pbs-retracing-lorine-niedeckers-lake-superior-ep-6/
LOCATION:Activity Room
CATEGORIES:Assisted Living
END:VEVENT
BEGIN:VEVENT
DTSTART;TZID=America/Chicago:20251210T130000
DTEND;TZID=America/Chicago:20251210T134500
DTSTAMP:20260423T172229
CREATED:20251111T073423Z
LAST-MODIFIED:20251206T004903Z
UID:10003144-1765371600-1765374300@reenaseniorliving.com
SUMMARY:Spark - Leg Bike and Quiz
DESCRIPTION:
URL:https://reenaseniorliving.com/event-calendar/spark-leg-bike-and-quiz-5/
LOCATION:Activity Room
CATEGORIES:Legacy Court
END:VEVENT
BEGIN:VEVENT
DTSTART;TZID=America/Chicago:20251210T130000
DTEND;TZID=America/Chicago:20251210T134500
DTSTAMP:20260423T172229
CREATED:20251111T073423Z
LAST-MODIFIED:20251210T010410Z
UID:10003145-1765371600-1765374300@reenaseniorliving.com
SUMMARY:Records with Dorothy
DESCRIPTION:
URL:https://reenaseniorliving.com/event-calendar/records-with-dorothy-13/
LOCATION:Activity Room
CATEGORIES:Legacy Court
END:VEVENT
BEGIN:VEVENT
DTSTART;TZID=America/Chicago:20251210T130000
DTEND;TZID=America/Chicago:20251210T131500
DTSTAMP:20260423T172229
CREATED:20251207T003407Z
LAST-MODIFIED:20251210T003411Z
UID:10003454-1765371600-1765372500@reenaseniorliving.com
SUMMARY:PBS - Niedecker's Inspirations\, Evolution and Later Works. Ep 4
DESCRIPTION:
URL:https://reenaseniorliving.com/event-calendar/pbs-niedeckers-inspirations-evolution-and-later-works-ep-4/
LOCATION:Activity Room
CATEGORIES:Assisted Living
END:VEVENT
BEGIN:VEVENT
DTSTART;TZID=America/Chicago:20251210T125000
DTEND;TZID=America/Chicago:20251210T135000
DTSTAMP:20260423T172229
CREATED:20251111T091911Z
LAST-MODIFIED:20251206T001959Z
UID:10003156-1765371000-1765374600@reenaseniorliving.com
SUMMARY:Spark Challenge Day.
DESCRIPTION:
URL:https://reenaseniorliving.com/event-calendar/spark-challenge-day-3/
LOCATION:Activity Room
CATEGORIES:Assisted Living
END:VEVENT
BEGIN:VEVENT
DTSTART;TZID=America/Chicago:20251210T123000
DTEND;TZID=America/Chicago:20251210T130000
DTSTAMP:20260423T172229
CREATED:20251111T073424Z
LAST-MODIFIED:20251210T010410Z
UID:10003151-1765369800-1765371600@reenaseniorliving.com
SUMMARY:Movement with Balls\, Noodles\, & Weights.
DESCRIPTION:
URL:https://reenaseniorliving.com/event-calendar/movement-with-balls-noodles-weights-16/
LOCATION:Activity Room
CATEGORIES:Legacy Court
END:VEVENT
BEGIN:VEVENT
DTSTART;TZID=America/Chicago:20251210T123000
DTEND;TZID=America/Chicago:20251210T125500
DTSTAMP:20260423T172229
CREATED:20251207T003407Z
LAST-MODIFIED:20251210T003411Z
UID:10003453-1765369800-1765371300@reenaseniorliving.com
SUMMARY:Spin and Solve with Beverage. Think Wheel of Fortune.
DESCRIPTION:
URL:https://reenaseniorliving.com/event-calendar/spin-and-solve-with-beverage-think-wheel-of-fortune/
LOCATION:Activity Room
CATEGORIES:Assisted Living
END:VEVENT
BEGIN:VEVENT
DTSTART;TZID=America/Chicago:20251210T091500
DTEND;TZID=America/Chicago:20251210T094500
DTSTAMP:20260423T172229
CREATED:20251111T091911Z
LAST-MODIFIED:20251210T003411Z
UID:10003154-1765358100-1765359900@reenaseniorliving.com
SUMMARY:Movement Class with Kayla
DESCRIPTION:
URL:https://reenaseniorliving.com/event-calendar/movement-class-with-kayla-100/
LOCATION:Activity Room
CATEGORIES:Assisted Living
END:VEVENT
BEGIN:VEVENT
DTSTART;TZID=America/Chicago:20251209T150000
DTEND;TZID=America/Chicago:20251209T153000
DTSTAMP:20260423T172229
CREATED:20251110T073419Z
LAST-MODIFIED:20251209T004909Z
UID:10003134-1765292400-1765294200@reenaseniorliving.com
SUMMARY:Movement with Balls\, Noodles\, & Weights.
DESCRIPTION:
URL:https://reenaseniorliving.com/event-calendar/movement-with-balls-noodles-weights-15/
LOCATION:Activity Room
CATEGORIES:Legacy Court
END:VEVENT
BEGIN:VEVENT
DTSTART;TZID=America/Chicago:20251209T133000
DTEND;TZID=America/Chicago:20251209T135500
DTSTAMP:20260423T172229
CREATED:20251110T073418Z
LAST-MODIFIED:20251209T004909Z
UID:10003131-1765287000-1765288500@reenaseniorliving.com
SUMMARY:Balance Training with Kayla - Hallway near Activity Room
DESCRIPTION:
URL:https://reenaseniorliving.com/event-calendar/balance-training-with-kayla-hallway-near-activity-room-6/
LOCATION:Activity Room
CATEGORIES:Legacy Court
END:VEVENT
BEGIN:VEVENT
DTSTART;TZID=America/Chicago:20251209T130000
DTEND;TZID=America/Chicago:20251209T140000
DTSTAMP:20260423T172229
CREATED:20251110T091911Z
LAST-MODIFIED:20251112T091904Z
UID:10003138-1765285200-1765288800@reenaseniorliving.com
SUMMARY:Make your own tie pillow. Sign-up
DESCRIPTION:
URL:https://reenaseniorliving.com/event-calendar/make-your-own-tie-pillow-sign-up/
LOCATION:Activity Room
CATEGORIES:Assisted Living
END:VEVENT
BEGIN:VEVENT
DTSTART;TZID=America/Chicago:20251209T124500
DTEND;TZID=America/Chicago:20251209T143000
DTSTAMP:20260423T172229
CREATED:20251110T091911Z
LAST-MODIFIED:20251209T003404Z
UID:10003137-1765284300-1765290600@reenaseniorliving.com
SUMMARY:Final Four Playoffs for our Reena Rockers!
DESCRIPTION:
URL:https://reenaseniorliving.com/event-calendar/final-four/
LOCATION:Activity Room
CATEGORIES:Assisted Living
END:VEVENT
END:VCALENDAR