BEGIN:VCALENDAR
VERSION:2.0
PRODID:-//Reena Senior Living - ECPv6.11.2.1//NONSGML v1.0//EN
CALSCALE:GREGORIAN
METHOD:PUBLISH
X-ORIGINAL-URL:https://reenaseniorliving.com
X-WR-CALDESC:Events for Reena Senior Living
REFRESH-INTERVAL;VALUE=DURATION:PT1H
X-Robots-Tag:noindex
X-PUBLISHED-TTL:PT1H
BEGIN:VTIMEZONE
TZID:America/Chicago
BEGIN:DAYLIGHT
TZOFFSETFROM:-0600
TZOFFSETTO:-0500
TZNAME:CDT
DTSTART:20260308T080000
END:DAYLIGHT
BEGIN:STANDARD
TZOFFSETFROM:-0500
TZOFFSETTO:-0600
TZNAME:CST
DTSTART:20261101T070000
END:STANDARD
END:VTIMEZONE
BEGIN:VEVENT
DTSTART;TZID=America/Chicago:20260407T091500
DTEND;TZID=America/Chicago:20260407T094500
DTSTAMP:20260419T190020
CREATED:20260309T040428Z
LAST-MODIFIED:20260407T060505Z
UID:10004806-1775553300-1775555100@reenaseniorliving.com
SUMMARY:Movement Class with Kayla
DESCRIPTION:
URL:https://reenaseniorliving.com/event-calendar/movement-class-with-kayla-172/
LOCATION:Activity Room
CATEGORIES:Assisted Living
END:VEVENT
BEGIN:VEVENT
DTSTART;TZID=America/Chicago:20260407T085000
DTEND;TZID=America/Chicago:20260407T091000
DTSTAMP:20260419T190020
CREATED:20260309T040428Z
LAST-MODIFIED:20260327T054927Z
UID:10004805-1775551800-1775553000@reenaseniorliving.com
SUMMARY:Green Thumbs Garden Club
DESCRIPTION:
URL:https://reenaseniorliving.com/event-calendar/green-thumbs-garden-club-27/
LOCATION:Activity Room
CATEGORIES:Assisted Living
END:VEVENT
BEGIN:VEVENT
DTSTART;TZID=America/Chicago:20260406T153000
DTEND;TZID=America/Chicago:20260406T161500
DTSTAMP:20260419T190020
CREATED:20260308T035056Z
LAST-MODIFIED:20260406T060413Z
UID:10004794-1775489400-1775492100@reenaseniorliving.com
SUMMARY:Knitting\, Crochet\, Crafting\, and Social Time.
DESCRIPTION:
URL:https://reenaseniorliving.com/event-calendar/knitting-crochet-crafting-and-social-time-10/
LOCATION:Activity Room
CATEGORIES:Assisted Living
END:VEVENT
BEGIN:VEVENT
DTSTART;TZID=America/Chicago:20260406T133000
DTEND;TZID=America/Chicago:20260406T143000
DTSTAMP:20260419T190020
CREATED:20260404T060408Z
LAST-MODIFIED:20260406T060413Z
UID:10005094-1775482200-1775485800@reenaseniorliving.com
SUMMARY:Paper Tearing Art - Rescheduled for Today. Sign-up this weekend - So we know how many to prep.
DESCRIPTION:
URL:https://reenaseniorliving.com/event-calendar/paper-tearing-art-rescheduled-for-today-sign-up-this-weekend-so-we-know-how-many-to-prep/
LOCATION:Activity Room
CATEGORIES:Assisted Living
END:VEVENT
BEGIN:VEVENT
DTSTART;TZID=America/Chicago:20260406T105000
DTEND;TZID=America/Chicago:20260406T110500
DTSTAMP:20260419T190020
CREATED:20260404T060408Z
LAST-MODIFIED:20260404T060408Z
UID:10005093-1775472600-1775473500@reenaseniorliving.com
SUMMARY:DIY Moose Hunt II with 13-Year-Old Taylor - with local Jana Waller Bair - 13 minutes
DESCRIPTION:
URL:https://reenaseniorliving.com/event-calendar/diy-moose-hunt-ii-with-13-year-old-taylor-with-local-jana-waller-bair-13-minutes-2/
LOCATION:Activity Room
CATEGORIES:Assisted Living
END:VEVENT
BEGIN:VEVENT
DTSTART;TZID=America/Chicago:20260406T105000
DTEND;TZID=America/Chicago:20260406T110500
DTSTAMP:20260419T190020
CREATED:20260404T060407Z
LAST-MODIFIED:20260406T060413Z
UID:10005091-1775472600-1775473500@reenaseniorliving.com
SUMMARY:DIY Moose Hunt II with 13-Year-Old Taylor - with local Jana Waller Bair - 13 minutes
DESCRIPTION:
URL:https://reenaseniorliving.com/event-calendar/diy-moose-hunt-ii-with-13-year-old-taylor-with-local-jana-waller-bair-13-minutes/
LOCATION:Activity Room
CATEGORIES:Assisted Living
END:VEVENT
BEGIN:VEVENT
DTSTART;TZID=America/Chicago:20260406T103000
DTEND;TZID=America/Chicago:20260406T105000
DTSTAMP:20260419T190020
CREATED:20260404T060407Z
LAST-MODIFIED:20260406T060413Z
UID:10005090-1775471400-1775472600@reenaseniorliving.com
SUMMARY:DIY Montana Bear Hunt Gets Wild... Grizzlies Up Close with local Jana on Youtube
DESCRIPTION:
URL:https://reenaseniorliving.com/event-calendar/diy-montana-bear-hunt-gets-wild-grizzlies-up-close-with-local-jana-on-youtube-2/
LOCATION:Activity Room
CATEGORIES:Assisted Living
END:VEVENT
BEGIN:VEVENT
DTSTART;TZID=America/Chicago:20260406T103000
DTEND;TZID=America/Chicago:20260406T105000
DTSTAMP:20260419T190020
CREATED:20260404T060407Z
LAST-MODIFIED:20260404T060407Z
UID:10005092-1775471400-1775472600@reenaseniorliving.com
SUMMARY:DIY Montana Bear Hunt Gets Wild... Grizzlies Up Close with local Jana on Youtube
DESCRIPTION:
URL:https://reenaseniorliving.com/event-calendar/diy-montana-bear-hunt-gets-wild-grizzlies-up-close-with-local-jana-on-youtube/
LOCATION:Activity Room
CATEGORIES:Assisted Living
END:VEVENT
BEGIN:VEVENT
DTSTART;TZID=America/Chicago:20260406T093000
DTEND;TZID=America/Chicago:20260406T101000
DTSTAMP:20260419T190020
CREATED:20260308T080618Z
LAST-MODIFIED:20260325T094915Z
UID:10004796-1775467800-1775470200@reenaseniorliving.com
SUMMARY:Games!
DESCRIPTION:
URL:https://reenaseniorliving.com/event-calendar/games-7/
LOCATION:Activity Room
CATEGORIES:Legacy Court
END:VEVENT
BEGIN:VEVENT
DTSTART;TZID=America/Chicago:20260406T091500
DTEND;TZID=America/Chicago:20260406T094500
DTSTAMP:20260419T190020
CREATED:20260308T035055Z
LAST-MODIFIED:20260406T060413Z
UID:10004792-1775466900-1775468700@reenaseniorliving.com
SUMMARY:Movement with Kayla (AR)
DESCRIPTION:
URL:https://reenaseniorliving.com/event-calendar/movement-with-kayla-ar-16/
LOCATION:Activity Room
CATEGORIES:Assisted Living
END:VEVENT
BEGIN:VEVENT
DTSTART;TZID=America/Chicago:20260406T090000
DTEND;TZID=America/Chicago:20260406T093000
DTSTAMP:20260419T190020
CREATED:20260308T080617Z
LAST-MODIFIED:20260325T094915Z
UID:10004795-1775466000-1775467800@reenaseniorliving.com
SUMMARY:Social Time - Linked Senior Events\, News\, & Reminisce
DESCRIPTION:
URL:https://reenaseniorliving.com/event-calendar/social-time-linked-senior-events-news-reminisce-3/
LOCATION:Activity Room
CATEGORIES:Legacy Court
END:VEVENT
BEGIN:VEVENT
DTSTART;TZID=America/Chicago:20260404T143000
DTEND;TZID=America/Chicago:20260404T145000
DTSTAMP:20260419T190020
CREATED:20260328T054934Z
LAST-MODIFIED:20260404T060405Z
UID:10005038-1775313000-1775314200@reenaseniorliving.com
SUMMARY:Balloon Volleyball with Mary
DESCRIPTION:
URL:https://reenaseniorliving.com/event-calendar/balloon-volleyball-with-mary/
LOCATION:Activity Room
CATEGORIES:Assisted Living
END:VEVENT
BEGIN:VEVENT
DTSTART;TZID=America/Chicago:20260404T100000
DTEND;TZID=America/Chicago:20260404T110000
DTSTAMP:20260419T190020
CREATED:20260311T041911Z
LAST-MODIFIED:20260404T060405Z
UID:10004836-1775296800-1775300400@reenaseniorliving.com
SUMMARY:Bingo with Mary
DESCRIPTION:
URL:https://reenaseniorliving.com/event-calendar/bingo-with-mary-2/
LOCATION:Activity Room
CATEGORIES:Assisted Living
END:VEVENT
BEGIN:VEVENT
DTSTART;TZID=America/Chicago:20260403T180000
DTEND;TZID=America/Chicago:20260403T190000
DTSTAMP:20260419T190020
CREATED:20260305T074935Z
LAST-MODIFIED:20260325T094914Z
UID:10004758-1775239200-1775242800@reenaseniorliving.com
SUMMARY:Calm Time- TV - Feel good kind.
DESCRIPTION:
URL:https://reenaseniorliving.com/event-calendar/calm-time-tv-feel-good-kind-2/
LOCATION:Activity Room
CATEGORIES:Legacy Court
END:VEVENT
BEGIN:VEVENT
DTSTART;TZID=America/Chicago:20260403T123000
DTEND;TZID=America/Chicago:20260403T131500
DTSTAMP:20260419T190020
CREATED:20260305T074934Z
LAST-MODIFIED:20260325T094914Z
UID:10004754-1775219400-1775222100@reenaseniorliving.com
SUMMARY:Group Movement Class - Strength and Mobility
DESCRIPTION:
URL:https://reenaseniorliving.com/event-calendar/group-movement-class-strength-and-mobility-17/
LOCATION:Activity Room
CATEGORIES:Legacy Court
END:VEVENT
BEGIN:VEVENT
DTSTART;TZID=America/Chicago:20260403T123000
DTEND;TZID=America/Chicago:20260403T124500
DTSTAMP:20260419T190020
CREATED:20260305T033425Z
LAST-MODIFIED:20260403T055010Z
UID:10004745-1775219400-1775220300@reenaseniorliving.com
SUMMARY:Your weekly activity packets will be delivered.
DESCRIPTION:
URL:https://reenaseniorliving.com/event-calendar/your-weekly-activity-packets-will-be-delivered-47/
LOCATION:Activity Room
CATEGORIES:Assisted Living
END:VEVENT
BEGIN:VEVENT
DTSTART;TZID=America/Chicago:20260402T180000
DTEND;TZID=America/Chicago:20260402T190000
DTSTAMP:20260419T190020
CREATED:20260305T074933Z
LAST-MODIFIED:20260325T094913Z
UID:10004751-1775152800-1775156400@reenaseniorliving.com
SUMMARY:Calm Time- TV - Feel good kind.
DESCRIPTION:
URL:https://reenaseniorliving.com/event-calendar/calm-time-tv-feel-good-kind/
LOCATION:Activity Room
CATEGORIES:Legacy Court
END:VEVENT
BEGIN:VEVENT
DTSTART;TZID=America/Chicago:20260402T143000
DTEND;TZID=America/Chicago:20260402T161500
DTSTAMP:20260419T190020
CREATED:20260318T053444Z
LAST-MODIFIED:20260323T053404Z
UID:10004935-1775140200-1775146500@reenaseniorliving.com
SUMMARY:Planting and Transplanting Day for Green Thumbs. Want to be part of the garden club?
DESCRIPTION:
URL:https://reenaseniorliving.com/event-calendar/planting-and-transplanting-day-for-green-thumbs-want-to-be-part-of-the-garden-club-2/
LOCATION:Activity Room
CATEGORIES:Assisted Living
END:VEVENT
BEGIN:VEVENT
DTSTART;TZID=America/Chicago:20260402T140000
DTEND;TZID=America/Chicago:20260402T150000
DTSTAMP:20260419T190020
CREATED:20260328T054934Z
LAST-MODIFIED:20260402T054934Z
UID:10005035-1775138400-1775142000@reenaseniorliving.com
SUMMARY:Virtual Program - Homemade Instruments 1890-1966 Pop Culture
DESCRIPTION:
URL:https://reenaseniorliving.com/event-calendar/virtual-program-homemade-instruments-1890-1966-pop-culture/
LOCATION:Activity Room
CATEGORIES:Assisted Living
END:VEVENT
BEGIN:VEVENT
DTSTART;TZID=America/Chicago:20260402T133000
DTEND;TZID=America/Chicago:20260402T135000
DTSTAMP:20260419T190020
CREATED:20260328T054934Z
LAST-MODIFIED:20260402T054934Z
UID:10005034-1775136600-1775137800@reenaseniorliving.com
SUMMARY:Wonders of Alaska - Exploring the Most Breathtaking Places - Travel Video 4K - With Beverage
DESCRIPTION:
URL:https://reenaseniorliving.com/event-calendar/wonders-of-alaska-exploring-the-most-breathtaking-places-travel-video-4k-with-beverage/
LOCATION:Activity Room
CATEGORIES:Assisted Living
END:VEVENT
BEGIN:VEVENT
DTSTART;TZID=America/Chicago:20260402T130000
DTEND;TZID=America/Chicago:20260402T133000
DTSTAMP:20260419T190020
CREATED:20260314T084956Z
LAST-MODIFIED:20260325T094913Z
UID:10004884-1775134800-1775136600@reenaseniorliving.com
SUMMARY:Rhythm Time! Song "Happy" Cheer Team Prep
DESCRIPTION:
URL:https://reenaseniorliving.com/event-calendar/rhythm-time-song-happy-cheer-team-prep-3/
LOCATION:Activity Room
CATEGORIES:Legacy Court
END:VEVENT
BEGIN:VEVENT
DTSTART;TZID=America/Chicago:20260402T091500
DTEND;TZID=America/Chicago:20260402T094500
DTSTAMP:20260419T190020
CREATED:20260304T032306Z
LAST-MODIFIED:20260402T054933Z
UID:10004736-1775121300-1775123100@reenaseniorliving.com
SUMMARY:Movement Class
DESCRIPTION:Gentle Movement\, Strength\, Mobility\, Balance\, & More.
URL:https://reenaseniorliving.com/event-calendar/movement-class-with-kayla-171/
LOCATION:Activity Room
CATEGORIES:Assisted Living
END:VEVENT
BEGIN:VEVENT
DTSTART;TZID=America/Chicago:20260402T085000
DTEND;TZID=America/Chicago:20260402T091000
DTSTAMP:20260419T190020
CREATED:20260304T032307Z
LAST-MODIFIED:20260324T053532Z
UID:10004737-1775119800-1775121000@reenaseniorliving.com
SUMMARY:Green Thumbs Garden Club
DESCRIPTION:
URL:https://reenaseniorliving.com/event-calendar/green-thumbs-garden-club-26/
LOCATION:Activity Room
CATEGORIES:Assisted Living
END:VEVENT
BEGIN:VEVENT
DTSTART;TZID=America/Chicago:20260401T171500
DTEND;TZID=America/Chicago:20260401T191500
DTSTAMP:20260419T190020
CREATED:20260318T053443Z
LAST-MODIFIED:20260401T055008Z
UID:10004934-1775063700-1775070900@reenaseniorliving.com
SUMMARY:Euchre Night
DESCRIPTION:
URL:https://reenaseniorliving.com/event-calendar/euchre-night-2/
LOCATION:Activity Room
CATEGORIES:Assisted Living
END:VEVENT
BEGIN:VEVENT
DTSTART;TZID=America/Chicago:20260401T143000
DTEND;TZID=America/Chicago:20260401T145000
DTSTAMP:20260419T190020
CREATED:20260303T073446Z
LAST-MODIFIED:20260325T094912Z
UID:10004722-1775053800-1775055000@reenaseniorliving.com
SUMMARY:Chaplain Ann Visit
DESCRIPTION:
URL:https://reenaseniorliving.com/event-calendar/chaplain-ann-visit-6/
LOCATION:Activity Room
CATEGORIES:Legacy Court
END:VEVENT
BEGIN:VEVENT
DTSTART;TZID=America/Chicago:20260401T133000
DTEND;TZID=America/Chicago:20260401T140000
DTSTAMP:20260419T190020
CREATED:20260303T073445Z
LAST-MODIFIED:20260325T094912Z
UID:10004720-1775050200-1775052000@reenaseniorliving.com
SUMMARY:Records with Dorothy
DESCRIPTION:
URL:https://reenaseniorliving.com/event-calendar/records-with-dorothy-29/
LOCATION:Activity Room
CATEGORIES:Legacy Court
END:VEVENT
BEGIN:VEVENT
DTSTART;TZID=America/Chicago:20260401T130000
DTEND;TZID=America/Chicago:20260401T140000
DTSTAMP:20260419T190020
CREATED:20260328T054922Z
LAST-MODIFIED:20260401T055008Z
UID:10005032-1775048400-1775052000@reenaseniorliving.com
SUMMARY:Time with Chaplain Ann - Watching a Christian episode
DESCRIPTION:
URL:https://reenaseniorliving.com/event-calendar/time-with-chaplain-ann-watching-a-christian-episode/
LOCATION:Activity Room
CATEGORIES:Assisted Living
END:VEVENT
BEGIN:VEVENT
DTSTART;TZID=America/Chicago:20260401T130000
DTEND;TZID=America/Chicago:20260401T132000
DTSTAMP:20260419T190020
CREATED:20260303T073445Z
LAST-MODIFIED:20260325T094912Z
UID:10004719-1775048400-1775049600@reenaseniorliving.com
SUMMARY:Guided Relaxation
DESCRIPTION:
URL:https://reenaseniorliving.com/event-calendar/guided-relaxation-6/
LOCATION:Activity Room
CATEGORIES:Legacy Court
END:VEVENT
BEGIN:VEVENT
DTSTART;TZID=America/Chicago:20260401T121500
DTEND;TZID=America/Chicago:20260401T125000
DTSTAMP:20260419T190020
CREATED:20260303T032054Z
LAST-MODIFIED:20260401T055008Z
UID:10004715-1775045700-1775047800@reenaseniorliving.com
SUMMARY:Resident Council
DESCRIPTION:
URL:https://reenaseniorliving.com/event-calendar/resident-council-12/
LOCATION:Activity Room
CATEGORIES:Assisted Living
END:VEVENT
BEGIN:VEVENT
DTSTART;TZID=America/Chicago:20260401T100000
DTEND;TZID=America/Chicago:20260401T101500
DTSTAMP:20260419T190020
CREATED:20260303T073444Z
LAST-MODIFIED:20260325T094912Z
UID:10004717-1775037600-1775038500@reenaseniorliving.com
SUMMARY:Sing-a-long before Catholic Church Service - All are Welcome
DESCRIPTION:
URL:https://reenaseniorliving.com/event-calendar/sing-a-long-before-catholic-church-service-all-are-welcome-7/
LOCATION:Activity Room
CATEGORIES:Legacy Court
END:VEVENT
END:VCALENDAR