BEGIN:VCALENDAR
VERSION:2.0
PRODID:-//Reena Senior Living - ECPv6.11.2.1//NONSGML v1.0//EN
CALSCALE:GREGORIAN
METHOD:PUBLISH
X-WR-CALNAME:Reena Senior Living
X-ORIGINAL-URL:https://reenaseniorliving.com
X-WR-CALDESC:Events for Reena Senior Living
REFRESH-INTERVAL;VALUE=DURATION:PT1H
X-Robots-Tag:noindex
X-PUBLISHED-TTL:PT1H
BEGIN:VTIMEZONE
TZID:America/Chicago
BEGIN:DAYLIGHT
TZOFFSETFROM:-0600
TZOFFSETTO:-0500
TZNAME:CDT
DTSTART:20250309T080000
END:DAYLIGHT
BEGIN:STANDARD
TZOFFSETFROM:-0500
TZOFFSETTO:-0600
TZNAME:CST
DTSTART:20251102T070000
END:STANDARD
END:VTIMEZONE
BEGIN:VEVENT
DTSTART;TZID=America/Chicago:20251209T130000
DTEND;TZID=America/Chicago:20251209T140000
DTSTAMP:20260423T203320
CREATED:20251110T091911Z
LAST-MODIFIED:20251112T091904Z
UID:10003138-1765285200-1765288800@reenaseniorliving.com
SUMMARY:Make your own tie pillow. Sign-up
DESCRIPTION:
URL:https://reenaseniorliving.com/event-calendar/make-your-own-tie-pillow-sign-up/
LOCATION:Activity Room
CATEGORIES:Assisted Living
END:VEVENT
BEGIN:VEVENT
DTSTART;TZID=America/Chicago:20251209T124500
DTEND;TZID=America/Chicago:20251209T143000
DTSTAMP:20260423T203320
CREATED:20251110T091911Z
LAST-MODIFIED:20251209T003404Z
UID:10003137-1765284300-1765290600@reenaseniorliving.com
SUMMARY:Final Four Playoffs for our Reena Rockers!
DESCRIPTION:
URL:https://reenaseniorliving.com/event-calendar/final-four/
LOCATION:Activity Room
CATEGORIES:Assisted Living
END:VEVENT
BEGIN:VEVENT
DTSTART;TZID=America/Chicago:20251209T123000
DTEND;TZID=America/Chicago:20251209T125500
DTSTAMP:20260423T203320
CREATED:20251110T073418Z
LAST-MODIFIED:20251209T004908Z
UID:10003129-1765283400-1765284900@reenaseniorliving.com
SUMMARY:Balloon Ball!
DESCRIPTION:
URL:https://reenaseniorliving.com/event-calendar/balloon-ball-6/
LOCATION:Activity Room
CATEGORIES:Legacy Court
END:VEVENT
BEGIN:VEVENT
DTSTART;TZID=America/Chicago:20251209T101500
DTEND;TZID=America/Chicago:20251209T113000
DTSTAMP:20260423T203320
CREATED:20251128T121947Z
LAST-MODIFIED:20251206T001958Z
UID:10003371-1765275300-1765279800@reenaseniorliving.com
SUMMARY:Let's make a Christmas Decoration Project! Wrapping and Stacking.
DESCRIPTION:
URL:https://reenaseniorliving.com/event-calendar/lets-make-a-christmas-decoration-project-wrapping-and-stacking/
LOCATION:Activity Room
CATEGORIES:Assisted Living
END:VEVENT
BEGIN:VEVENT
DTSTART;TZID=America/Chicago:20251209T100000
DTEND;TZID=America/Chicago:20251209T104500
DTSTAMP:20260423T203320
CREATED:20251207T003406Z
LAST-MODIFIED:20251209T003404Z
UID:10003452-1765274400-1765277100@reenaseniorliving.com
SUMMARY:Review For Competition Quiz
DESCRIPTION:
URL:https://reenaseniorliving.com/event-calendar/review-for-competition-quiz/
LOCATION:Activity Room
CATEGORIES:Assisted Living
END:VEVENT
BEGIN:VEVENT
DTSTART;TZID=America/Chicago:20251209T091500
DTEND;TZID=America/Chicago:20251209T094500
DTSTAMP:20260423T203320
CREATED:20251110T091911Z
LAST-MODIFIED:20251209T003404Z
UID:10003135-1765271700-1765273500@reenaseniorliving.com
SUMMARY:Movement Class with Kayla
DESCRIPTION:
URL:https://reenaseniorliving.com/event-calendar/movement-class-with-kayla-99/
LOCATION:Activity Room
CATEGORIES:Assisted Living
END:VEVENT
BEGIN:VEVENT
DTSTART;TZID=America/Chicago:20251208T154500
DTEND;TZID=America/Chicago:20251208T161500
DTSTAMP:20260423T203320
CREATED:20251109T073416Z
LAST-MODIFIED:20251206T004902Z
UID:10003121-1765208700-1765210500@reenaseniorliving.com
SUMMARY:Movement with Balls\, Noodles\, & Weights.
DESCRIPTION:
URL:https://reenaseniorliving.com/event-calendar/movement-with-balls-noodles-weights-14/
LOCATION:Activity Room
CATEGORIES:Legacy Court
END:VEVENT
BEGIN:VEVENT
DTSTART;TZID=America/Chicago:20251208T130000
DTEND;TZID=America/Chicago:20251208T150000
DTSTAMP:20260423T203320
CREATED:20251119T091903Z
LAST-MODIFIED:20251208T003401Z
UID:10003262-1765198800-1765206000@reenaseniorliving.com
SUMMARY:Craft Sale!  Agates\, Precious Stones\, Wood Chipping Varieties\, Knitting and more!
DESCRIPTION:
URL:https://reenaseniorliving.com/event-calendar/craft-sale/
LOCATION:Activity Room
CATEGORIES:Assisted Living
END:VEVENT
BEGIN:VEVENT
DTSTART;TZID=America/Chicago:20251208T130000
DTEND;TZID=America/Chicago:20251208T140000
DTSTAMP:20260423T203320
CREATED:20251109T091910Z
LAST-MODIFIED:20251118T091925Z
UID:10003124-1765198800-1765202400@reenaseniorliving.com
SUMMARY:Bingo
DESCRIPTION:
URL:https://reenaseniorliving.com/event-calendar/bingo-60/
LOCATION:Activity Room
CATEGORIES:Assisted Living
END:VEVENT
BEGIN:VEVENT
DTSTART;TZID=America/Chicago:20251208T100000
DTEND;TZID=America/Chicago:20251208T103000
DTSTAMP:20260423T203320
CREATED:20251109T073415Z
LAST-MODIFIED:20251114T074912Z
UID:10003112-1765188000-1765189800@reenaseniorliving.com
SUMMARY:Rhythm Monday with Instruments and Movement with Anne
DESCRIPTION:
URL:https://reenaseniorliving.com/event-calendar/rhythm-monday-with-instruments-and-movement-with-anne-18/
LOCATION:Activity Room
CATEGORIES:Legacy Court
END:VEVENT
BEGIN:VEVENT
DTSTART;TZID=America/Chicago:20251208T095000
DTEND;TZID=America/Chicago:20251208T100500
DTSTAMP:20260423T203320
CREATED:20251207T003406Z
LAST-MODIFIED:20251208T003401Z
UID:10003451-1765187400-1765188300@reenaseniorliving.com
SUMMARY:Biking Practice and Set up for Tomorrows Event. Go Reena Rockers!
DESCRIPTION:
URL:https://reenaseniorliving.com/event-calendar/biking-practice-and-set-up-for-tomorrows-event-go-reena-rockers/
LOCATION:Activity Room
CATEGORIES:Assisted Living
END:VEVENT
BEGIN:VEVENT
DTSTART;TZID=America/Chicago:20251208T091500
DTEND;TZID=America/Chicago:20251208T094500
DTSTAMP:20260423T203320
CREATED:20251109T091910Z
LAST-MODIFIED:20251208T003401Z
UID:10003123-1765185300-1765187100@reenaseniorliving.com
SUMMARY:Movement with Kayla (AR)
DESCRIPTION:
URL:https://reenaseniorliving.com/event-calendar/movement-with-kayla-15/
LOCATION:Activity Room
CATEGORIES:Assisted Living
END:VEVENT
BEGIN:VEVENT
DTSTART;TZID=America/Chicago:20251205T150000
DTEND;TZID=America/Chicago:20251205T151500
DTSTAMP:20260423T203320
CREATED:20251106T091911Z
LAST-MODIFIED:20251205T031917Z
UID:10003087-1764946800-1764947700@reenaseniorliving.com
SUMMARY:Your weekly activity packets will be delivered.
DESCRIPTION:
URL:https://reenaseniorliving.com/event-calendar/your-weekly-activity-packets-will-be-delivered-30/
LOCATION:Activity Room
CATEGORIES:Assisted Living
END:VEVENT
BEGIN:VEVENT
DTSTART;TZID=America/Chicago:20251205T130000
DTEND;TZID=America/Chicago:20251205T134500
DTSTAMP:20260423T203320
CREATED:20251106T091911Z
LAST-MODIFIED:20251205T031917Z
UID:10003086-1764939600-1764942300@reenaseniorliving.com
SUMMARY:The Big Show - Weekly update on Lifespark Challenge
DESCRIPTION:
URL:https://reenaseniorliving.com/event-calendar/the-big-show-weekly-update-on-lifespark-challenge-9/
LOCATION:Activity Room
CATEGORIES:Assisted Living
END:VEVENT
BEGIN:VEVENT
DTSTART;TZID=America/Chicago:20251205T100000
DTEND;TZID=America/Chicago:20251205T113000
DTSTAMP:20260423T203320
CREATED:20251119T091903Z
LAST-MODIFIED:20251205T031917Z
UID:10003261-1764928800-1764934200@reenaseniorliving.com
SUMMARY:Decorate the Activity Room Tree with us.
DESCRIPTION:
URL:https://reenaseniorliving.com/event-calendar/decorate-the-activity-room-tree-with-us/
LOCATION:Activity Room
CATEGORIES:Assisted Living
END:VEVENT
BEGIN:VEVENT
DTSTART;TZID=America/Chicago:20251205T100000
DTEND;TZID=America/Chicago:20251205T103000
DTSTAMP:20260423T203320
CREATED:20251106T071924Z
LAST-MODIFIED:20251205T004905Z
UID:10003077-1764928800-1764930600@reenaseniorliving.com
SUMMARY:Sing Christmas Songs Together
DESCRIPTION:
URL:https://reenaseniorliving.com/event-calendar/records-4/
LOCATION:Activity Room
CATEGORIES:Legacy Court
END:VEVENT
BEGIN:VEVENT
DTSTART;TZID=America/Chicago:20251205T091500
DTEND;TZID=America/Chicago:20251205T094500
DTSTAMP:20260423T203320
CREATED:20251106T091911Z
LAST-MODIFIED:20251205T031917Z
UID:10003084-1764926100-1764927900@reenaseniorliving.com
SUMMARY:Movement Class with Kayla
DESCRIPTION:
URL:https://reenaseniorliving.com/event-calendar/movement-class-with-kayla-98/
LOCATION:Activity Room
CATEGORIES:Assisted Living
END:VEVENT
BEGIN:VEVENT
DTSTART;TZID=America/Chicago:20251204T171500
DTEND;TZID=America/Chicago:20251204T190000
DTSTAMP:20260423T203320
CREATED:20251105T091910Z
LAST-MODIFIED:20251205T004947Z
UID:10003074-1764868500-1764874800@reenaseniorliving.com
SUMMARY:Hand & Foot Cards or Jenga Game
DESCRIPTION:
URL:https://reenaseniorliving.com/event-calendar/hand-foot-cards-trouble-the-board-game-3/
LOCATION:Activity Room
CATEGORIES:Assisted Living
END:VEVENT
BEGIN:VEVENT
DTSTART;TZID=America/Chicago:20251204T140000
DTEND;TZID=America/Chicago:20251204T150000
DTSTAMP:20260423T203320
CREATED:20251105T091910Z
LAST-MODIFIED:20251204T030404Z
UID:10003073-1764856800-1764860400@reenaseniorliving.com
SUMMARY:ARCTIC WOLVES - Presented by: International Wolf Center.
DESCRIPTION:Monthly Live Interactive Presentations with Q&A Time
URL:https://reenaseniorliving.com/event-calendar/the-incredible-life-of-john-b-jones-slavery-to-freedom-lighthouse-keeper-more-3/
LOCATION:Activity Room
CATEGORIES:Assisted Living
END:VEVENT
BEGIN:VEVENT
DTSTART;TZID=America/Chicago:20251204T133000
DTEND;TZID=America/Chicago:20251204T143000
DTSTAMP:20260423T203320
CREATED:20251105T071915Z
LAST-MODIFIED:20251204T004905Z
UID:10003065-1764855000-1764858600@reenaseniorliving.com
SUMMARY:Christmas Art and Projects
DESCRIPTION:
URL:https://reenaseniorliving.com/event-calendar/make-happy-thanksgiving-for-our-friends-at-luther-elementary-with-linked-senior-music-5/
LOCATION:Activity Room
CATEGORIES:Legacy Court
END:VEVENT
BEGIN:VEVENT
DTSTART;TZID=America/Chicago:20251204T123000
DTEND;TZID=America/Chicago:20251204T130000
DTSTAMP:20260423T203320
CREATED:20251113T091906Z
LAST-MODIFIED:20251204T030404Z
UID:10003191-1764851400-1764853200@reenaseniorliving.com
SUMMARY:Resident Council
DESCRIPTION:
URL:https://reenaseniorliving.com/event-calendar/resident-council-8/
LOCATION:Activity Room
CATEGORIES:Assisted Living
END:VEVENT
BEGIN:VEVENT
DTSTART;TZID=America/Chicago:20251204T091500
DTEND;TZID=America/Chicago:20251204T094500
DTSTAMP:20260423T203320
CREATED:20251105T091910Z
LAST-MODIFIED:20251204T030404Z
UID:10003071-1764839700-1764841500@reenaseniorliving.com
SUMMARY:Movement Class with Kayla
DESCRIPTION:Gentle Movement\, Strength\, Mobility\, Balance\, & More.
URL:https://reenaseniorliving.com/event-calendar/movement-class-with-kayla-97/
LOCATION:Activity Room
CATEGORIES:Assisted Living
END:VEVENT
BEGIN:VEVENT
DTSTART;TZID=America/Chicago:20251203T180000
DTEND;TZID=America/Chicago:20251203T190000
DTSTAMP:20260423T203320
CREATED:20251128T121905Z
LAST-MODIFIED:20251204T004905Z
UID:10003359-1764784800-1764788400@reenaseniorliving.com
SUMMARY:Corn Hole with Laurie - Skylight Room Area
DESCRIPTION:
URL:https://reenaseniorliving.com/event-calendar/corn-hole-with-laurie-skylight-room-area/
LOCATION:Activity Room
CATEGORIES:Legacy Court
END:VEVENT
BEGIN:VEVENT
DTSTART;TZID=America/Chicago:20251203T160000
DTEND;TZID=America/Chicago:20251203T162000
DTSTAMP:20260423T203320
CREATED:20251104T071915Z
LAST-MODIFIED:20251203T004944Z
UID:10003047-1764777600-1764778800@reenaseniorliving.com
SUMMARY:Walking- Find the pond view; have a seat and reminisce.
DESCRIPTION:
URL:https://reenaseniorliving.com/event-calendar/walking-with-anne-find-the-pond-view-have-a-seat-and-reminisce-6/
LOCATION:Activity Room
CATEGORIES:Legacy Court
END:VEVENT
BEGIN:VEVENT
DTSTART;TZID=America/Chicago:20251203T140000
DTEND;TZID=America/Chicago:20251203T142500
DTSTAMP:20260423T203320
CREATED:20251104T071915Z
LAST-MODIFIED:20251203T004933Z
UID:10003041-1764770400-1764771900@reenaseniorliving.com
SUMMARY:Book and Discussion
DESCRIPTION:
URL:https://reenaseniorliving.com/event-calendar/book-the-sunsets-of-miss-olivia-wiggins-read-by-dorothy-5/
LOCATION:Activity Room
CATEGORIES:Legacy Court
END:VEVENT
BEGIN:VEVENT
DTSTART;TZID=America/Chicago:20251203T133000
DTEND;TZID=America/Chicago:20251203T143000
DTSTAMP:20260423T203320
CREATED:20251104T071915Z
LAST-MODIFIED:20251203T004933Z
UID:10003040-1764768600-1764772200@reenaseniorliving.com
SUMMARY:Records with Dorothy
DESCRIPTION:
URL:https://reenaseniorliving.com/event-calendar/records-with-dorothy-12/
LOCATION:Activity Room
CATEGORIES:Legacy Court
END:VEVENT
BEGIN:VEVENT
DTSTART;TZID=America/Chicago:20251203T130000
DTEND;TZID=America/Chicago:20251203T134500
DTSTAMP:20260423T203320
CREATED:20251107T073420Z
LAST-MODIFIED:20251126T080406Z
UID:10003100-1764766800-1764769500@reenaseniorliving.com
SUMMARY:Spark - Leg Bike and Quiz
DESCRIPTION:
URL:https://reenaseniorliving.com/event-calendar/spark-leg-bike-and-quiz-4/
LOCATION:Activity Room
CATEGORIES:Legacy Court
END:VEVENT
BEGIN:VEVENT
DTSTART;TZID=America/Chicago:20251203T125000
DTEND;TZID=America/Chicago:20251203T135000
DTSTAMP:20260423T203320
CREATED:20251104T091911Z
LAST-MODIFIED:20251203T031909Z
UID:10003062-1764766200-1764769800@reenaseniorliving.com
SUMMARY:Spark Challenge Day - Arm Bike - Last Match of Regular Season
DESCRIPTION:
URL:https://reenaseniorliving.com/event-calendar/spark-challenge-day-2/
LOCATION:Activity Room
CATEGORIES:Assisted Living
END:VEVENT
BEGIN:VEVENT
DTSTART;TZID=America/Chicago:20251203T123000
DTEND;TZID=America/Chicago:20251203T133000
DTSTAMP:20260423T203320
CREATED:20251128T121904Z
LAST-MODIFIED:20251203T004933Z
UID:10003357-1764765000-1764768600@reenaseniorliving.com
SUMMARY:Bingo
DESCRIPTION:
URL:https://reenaseniorliving.com/event-calendar/bingo-65/
LOCATION:Activity Room
CATEGORIES:Legacy Court
END:VEVENT
BEGIN:VEVENT
DTSTART;TZID=America/Chicago:20251203T121500
DTEND;TZID=America/Chicago:20251203T130000
DTSTAMP:20260423T203320
CREATED:20251104T091911Z
LAST-MODIFIED:20251112T091903Z
UID:10003061-1764764100-1764766800@reenaseniorliving.com
SUMMARY:Resident Council
DESCRIPTION:
URL:https://reenaseniorliving.com/event-calendar/resident-council-7/
LOCATION:Activity Room
CATEGORIES:Assisted Living
END:VEVENT
END:VCALENDAR