BEGIN:VCALENDAR
VERSION:2.0
PRODID:-//Reena Senior Living - ECPv6.11.2.1//NONSGML v1.0//EN
CALSCALE:GREGORIAN
METHOD:PUBLISH
X-ORIGINAL-URL:https://reenaseniorliving.com
X-WR-CALDESC:Events for Reena Senior Living
REFRESH-INTERVAL;VALUE=DURATION:PT1H
X-Robots-Tag:noindex
X-PUBLISHED-TTL:PT1H
BEGIN:VTIMEZONE
TZID:America/Chicago
BEGIN:DAYLIGHT
TZOFFSETFROM:-0600
TZOFFSETTO:-0500
TZNAME:CDT
DTSTART:20250309T080000
END:DAYLIGHT
BEGIN:STANDARD
TZOFFSETFROM:-0500
TZOFFSETTO:-0600
TZNAME:CST
DTSTART:20251102T070000
END:STANDARD
END:VTIMEZONE
BEGIN:VEVENT
DTSTART;TZID=America/Chicago:20251201T100000
DTEND;TZID=America/Chicago:20251201T110000
DTSTAMP:20260424T005421
CREATED:20251113T091905Z
LAST-MODIFIED:20251201T030402Z
UID:10003190-1764583200-1764586800@reenaseniorliving.com
SUMMARY:Ornament Dipping for Memorial Service
DESCRIPTION:
URL:https://reenaseniorliving.com/event-calendar/ornament-dipping-for-memorial-service/
LOCATION:Activity Room
CATEGORIES:Assisted Living
END:VEVENT
BEGIN:VEVENT
DTSTART;TZID=America/Chicago:20251201T100000
DTEND;TZID=America/Chicago:20251201T103000
DTSTAMP:20260424T005421
CREATED:20251102T060409Z
LAST-MODIFIED:20251112T074908Z
UID:10002937-1764583200-1764585000@reenaseniorliving.com
SUMMARY:Rhythm Monday with Instruments and Movement with Anne
DESCRIPTION:
URL:https://reenaseniorliving.com/event-calendar/rhythm-monday-with-instruments-and-movement-with-anne-16/
LOCATION:Activity Room
CATEGORIES:Legacy Court
END:VEVENT
BEGIN:VEVENT
DTSTART;TZID=America/Chicago:20251201T091500
DTEND;TZID=America/Chicago:20251201T094500
DTSTAMP:20260424T005421
CREATED:20251102T090410Z
LAST-MODIFIED:20251201T030402Z
UID:10002945-1764580500-1764582300@reenaseniorliving.com
SUMMARY:Movement with Kayla
DESCRIPTION:
URL:https://reenaseniorliving.com/event-calendar/movement-with-kayla-13/
LOCATION:Activity Room
CATEGORIES:Assisted Living
END:VEVENT
BEGIN:VEVENT
DTSTART;TZID=America/Chicago:20251129T091500
DTEND;TZID=America/Chicago:20251129T094500
DTSTAMP:20260424T005421
CREATED:20251113T091905Z
LAST-MODIFIED:20251129T043408Z
UID:10003188-1764407700-1764409500@reenaseniorliving.com
SUMMARY:Movement Class with Kayla
DESCRIPTION:
URL:https://reenaseniorliving.com/event-calendar/movement-class-with-kayla-102/
LOCATION:Activity Room
CATEGORIES:Assisted Living
END:VEVENT
BEGIN:VEVENT
DTSTART;TZID=America/Chicago:20251128T150000
DTEND;TZID=America/Chicago:20251128T153000
DTSTAMP:20260424T005421
CREATED:20251120T074908Z
LAST-MODIFIED:20251128T123447Z
UID:10003276-1764342000-1764343800@reenaseniorliving.com
SUMMARY:Parachute and Balloon Volleyball Time! Join us for the fun!
DESCRIPTION:
URL:https://reenaseniorliving.com/event-calendar/parachute-and-balloon-volleyball-time-join-us-for-the-fun/
LOCATION:Activity Room
CATEGORIES:Legacy Court
END:VEVENT
BEGIN:VEVENT
DTSTART;TZID=America/Chicago:20251128T130000
DTEND;TZID=America/Chicago:20251128T134500
DTSTAMP:20260424T005421
CREATED:20251030T084909Z
LAST-MODIFIED:20251103T090406Z
UID:10002924-1764334800-1764337500@reenaseniorliving.com
SUMMARY:The Big Show - Weekly update on Lifespark Challenge
DESCRIPTION:
URL:https://reenaseniorliving.com/event-calendar/the-big-show-weekly-update-on-lifespark-challenge-8/
LOCATION:Activity Room
CATEGORIES:Assisted Living
END:VEVENT
BEGIN:VEVENT
DTSTART;TZID=America/Chicago:20251128T120000
DTEND;TZID=America/Chicago:20251128T121500
DTSTAMP:20260424T005421
CREATED:20251030T084909Z
LAST-MODIFIED:20251128T153404Z
UID:10002925-1764331200-1764332100@reenaseniorliving.com
SUMMARY:Your weekly activity packets will be delivered.
DESCRIPTION:
URL:https://reenaseniorliving.com/event-calendar/your-weekly-activity-packets-will-be-delivered-29/
LOCATION:Activity Room
CATEGORIES:Assisted Living
END:VEVENT
BEGIN:VEVENT
DTSTART;TZID=America/Chicago:20251128T091500
DTEND;TZID=America/Chicago:20251128T101500
DTSTAMP:20260424T005421
CREATED:20251113T091905Z
LAST-MODIFIED:20251128T153404Z
UID:10003187-1764321300-1764324900@reenaseniorliving.com
SUMMARY:Coffee and Spin & Solve - Like Wheel of Fortune
DESCRIPTION:
URL:https://reenaseniorliving.com/event-calendar/coffee-and-spin-solve-like-wheel-of-fortune/
LOCATION:Activity Room
CATEGORIES:Assisted Living
END:VEVENT
BEGIN:VEVENT
DTSTART;TZID=America/Chicago:20251128T091500
DTEND;TZID=America/Chicago:20251128T094500
DTSTAMP:20260424T005421
CREATED:20251030T084909Z
LAST-MODIFIED:20251112T091902Z
UID:10002921-1764321300-1764323100@reenaseniorliving.com
SUMMARY:Movement Class with Kayla
DESCRIPTION:
URL:https://reenaseniorliving.com/event-calendar/movement-class-with-kayla-94/
LOCATION:Activity Room
CATEGORIES:Assisted Living
END:VEVENT
BEGIN:VEVENT
DTSTART;TZID=America/Chicago:20251127T171500
DTEND;TZID=America/Chicago:20251127T190000
DTSTAMP:20260424T005421
CREATED:20251104T091909Z
LAST-MODIFIED:20251112T091902Z
UID:10003058-1764263700-1764270000@reenaseniorliving.com
SUMMARY:Hand & Foot Cards & Trouble the Board Game.
DESCRIPTION:
URL:https://reenaseniorliving.com/event-calendar/hand-foot-cards-trouble-the-board-game-2/
LOCATION:Activity Room
CATEGORIES:Assisted Living
END:VEVENT
BEGIN:VEVENT
DTSTART;TZID=America/Chicago:20251127T153000
DTEND;TZID=America/Chicago:20251127T155000
DTSTAMP:20260424T005421
CREATED:20251120T074907Z
LAST-MODIFIED:20251126T080415Z
UID:10003275-1764257400-1764258600@reenaseniorliving.com
SUMMARY:Group Exercise
DESCRIPTION:
URL:https://reenaseniorliving.com/event-calendar/group-exercise-48/
LOCATION:Activity Room
CATEGORIES:Legacy Court
END:VEVENT
BEGIN:VEVENT
DTSTART;TZID=America/Chicago:20251127T131500
DTEND;TZID=America/Chicago:20251127T142500
DTSTAMP:20260424T005421
CREATED:20251120T074907Z
LAST-MODIFIED:20251126T080414Z
UID:10003274-1764249300-1764253500@reenaseniorliving.com
SUMMARY:Art with Kayla
DESCRIPTION:
URL:https://reenaseniorliving.com/event-calendar/art-with-kayla/
LOCATION:Activity Room
CATEGORIES:Legacy Court
END:VEVENT
BEGIN:VEVENT
DTSTART;TZID=America/Chicago:20251127T103000
DTEND;TZID=America/Chicago:20251127T111500
DTSTAMP:20260424T005421
CREATED:20251029T070414Z
LAST-MODIFIED:20251030T070414Z
UID:10002898-1764239400-1764242100@reenaseniorliving.com
SUMMARY:Let's Make Bread.
DESCRIPTION:
URL:https://reenaseniorliving.com/event-calendar/lets-make-bread-18/
LOCATION:Activity Room
CATEGORIES:Legacy Court
END:VEVENT
BEGIN:VEVENT
DTSTART;TZID=America/Chicago:20251127T100000
DTEND;TZID=America/Chicago:20251127T110000
DTSTAMP:20260424T005421
CREATED:20251030T084909Z
LAST-MODIFIED:20251126T093409Z
UID:10002920-1764237600-1764241200@reenaseniorliving.com
SUMMARY:Coffee and Parade Social Hour.
DESCRIPTION:
URL:https://reenaseniorliving.com/event-calendar/coffee-and-parade-social-hour/
LOCATION:Activity Room
CATEGORIES:Assisted Living
END:VEVENT
BEGIN:VEVENT
DTSTART;TZID=America/Chicago:20251127T093000
DTEND;TZID=America/Chicago:20251127T103000
DTSTAMP:20260424T005421
CREATED:20251103T070413Z
LAST-MODIFIED:20251119T074913Z
UID:10003010-1764235800-1764239400@reenaseniorliving.com
SUMMARY:Make "Happy Thanksgiving" Leaves - With Linked Senior Music.
DESCRIPTION:
URL:https://reenaseniorliving.com/event-calendar/make-happy-thanksgiving-for-our-friends-at-luther-elementary-with-linked-senior-music-4/
LOCATION:Activity Room
CATEGORIES:Legacy Court
END:VEVENT
BEGIN:VEVENT
DTSTART;TZID=America/Chicago:20251127T091500
DTEND;TZID=America/Chicago:20251127T094500
DTSTAMP:20260424T005421
CREATED:20251029T083407Z
LAST-MODIFIED:20251126T093409Z
UID:10002905-1764234900-1764236700@reenaseniorliving.com
SUMMARY:Movement Class with Kayla
DESCRIPTION:Gentle Movement\, Strength\, Mobility\, Balance\, & More.
URL:https://reenaseniorliving.com/event-calendar/movement-class-with-kayla-93/
LOCATION:Activity Room
CATEGORIES:Assisted Living
END:VEVENT
BEGIN:VEVENT
DTSTART;TZID=America/Chicago:20251126T160000
DTEND;TZID=America/Chicago:20251126T162000
DTSTAMP:20260424T005421
CREATED:20251103T070413Z
LAST-MODIFIED:20251117T074907Z
UID:10003008-1764172800-1764174000@reenaseniorliving.com
SUMMARY:Walking with Anne! Find the pond view; have a seat and reminisce.
DESCRIPTION:
URL:https://reenaseniorliving.com/event-calendar/walking-with-anne-find-the-pond-view-have-a-seat-and-reminisce-4/
LOCATION:Activity Room
CATEGORIES:Legacy Court
END:VEVENT
BEGIN:VEVENT
DTSTART;TZID=America/Chicago:20251126T154500
DTEND;TZID=America/Chicago:20251126T161500
DTSTAMP:20260424T005421
CREATED:20251103T070413Z
LAST-MODIFIED:20251126T080414Z
UID:10003007-1764171900-1764173700@reenaseniorliving.com
SUMMARY:Movement with Balls\, Noodles\, & Weights.
DESCRIPTION:
URL:https://reenaseniorliving.com/event-calendar/movement-with-balls-noodles-weights-10/
LOCATION:Activity Room
CATEGORIES:Legacy Court
END:VEVENT
BEGIN:VEVENT
DTSTART;TZID=America/Chicago:20251126T140000
DTEND;TZID=America/Chicago:20251126T142500
DTSTAMP:20260424T005421
CREATED:20251103T070413Z
LAST-MODIFIED:20251126T080403Z
UID:10003006-1764165600-1764167100@reenaseniorliving.com
SUMMARY:Let's explore a new book.
DESCRIPTION:
URL:https://reenaseniorliving.com/event-calendar/book-the-sunsets-of-miss-olivia-wiggins-read-by-dorothy-4/
LOCATION:Activity Room
CATEGORIES:Legacy Court
END:VEVENT
BEGIN:VEVENT
DTSTART;TZID=America/Chicago:20251126T130000
DTEND;TZID=America/Chicago:20251126T140000
DTSTAMP:20260424T005421
CREATED:20251107T091906Z
LAST-MODIFIED:20251126T093409Z
UID:10003104-1764162000-1764165600@reenaseniorliving.com
SUMMARY:Sample Foods from other Cultures.
DESCRIPTION:
URL:https://reenaseniorliving.com/event-calendar/sample-new-popular-foods-from-other-cultures/
LOCATION:Activity Room
CATEGORIES:Assisted Living
END:VEVENT
BEGIN:VEVENT
DTSTART;TZID=America/Chicago:20251126T130000
DTEND;TZID=America/Chicago:20251126T140000
DTSTAMP:20260424T005421
CREATED:20251028T083408Z
LAST-MODIFIED:20251103T090406Z
UID:10002895-1764162000-1764165600@reenaseniorliving.com
SUMMARY:Spark Challenge Day.
DESCRIPTION:
URL:https://reenaseniorliving.com/event-calendar/spark-challenge-day/
LOCATION:Activity Room
CATEGORIES:Assisted Living
END:VEVENT
BEGIN:VEVENT
DTSTART;TZID=America/Chicago:20251126T130000
DTEND;TZID=America/Chicago:20251126T140000
DTSTAMP:20260424T005421
CREATED:20251028T064929Z
LAST-MODIFIED:20251126T080403Z
UID:10002889-1764162000-1764165600@reenaseniorliving.com
SUMMARY:Let's Spin Records!
DESCRIPTION:
URL:https://reenaseniorliving.com/event-calendar/records-with-dorothy-11/
LOCATION:Activity Room
CATEGORIES:Legacy Court
END:VEVENT
BEGIN:VEVENT
DTSTART;TZID=America/Chicago:20251126T130000
DTEND;TZID=America/Chicago:20251126T134500
DTSTAMP:20260424T005421
CREATED:20251107T073416Z
LAST-MODIFIED:20251119T074912Z
UID:10003099-1764162000-1764164700@reenaseniorliving.com
SUMMARY:Spark - Leg Bike and Quiz
DESCRIPTION:
URL:https://reenaseniorliving.com/event-calendar/spark-leg-bike-and-quiz-3/
LOCATION:Activity Room
CATEGORIES:Legacy Court
END:VEVENT
BEGIN:VEVENT
DTSTART;TZID=America/Chicago:20251126T091500
DTEND;TZID=America/Chicago:20251126T094500
DTSTAMP:20260424T005421
CREATED:20251028T083408Z
LAST-MODIFIED:20251126T093409Z
UID:10002894-1764148500-1764150300@reenaseniorliving.com
SUMMARY:Movement Class with Kayla
DESCRIPTION:
URL:https://reenaseniorliving.com/event-calendar/movement-class-with-kayla-92/
LOCATION:Activity Room
CATEGORIES:Assisted Living
END:VEVENT
BEGIN:VEVENT
DTSTART;TZID=America/Chicago:20251126T090000
DTEND;TZID=America/Chicago:20251126T092000
DTSTAMP:20260424T005421
CREATED:20251028T064929Z
LAST-MODIFIED:20251102T060408Z
UID:10002885-1764147600-1764148800@reenaseniorliving.com
SUMMARY:Spiritual Time with Chaplin Lee
DESCRIPTION:
URL:https://reenaseniorliving.com/event-calendar/spiritual-time-with-chaplin-lee-6/
LOCATION:Activity Room
CATEGORIES:Legacy Court
END:VEVENT
BEGIN:VEVENT
DTSTART;TZID=America/Chicago:20251125T154500
DTEND;TZID=America/Chicago:20251125T161500
DTSTAMP:20260424T005421
CREATED:20251103T070412Z
LAST-MODIFIED:20251125T074903Z
UID:10003004-1764085500-1764087300@reenaseniorliving.com
SUMMARY:Movement with Balls\, Noodles\, & Weights.
DESCRIPTION:
URL:https://reenaseniorliving.com/event-calendar/movement-with-balls-noodles-weights-9/
LOCATION:Activity Room
CATEGORIES:Legacy Court
END:VEVENT
BEGIN:VEVENT
DTSTART;TZID=America/Chicago:20251125T140000
DTEND;TZID=America/Chicago:20251125T142500
DTSTAMP:20260424T005421
CREATED:20251103T070412Z
LAST-MODIFIED:20251119T074912Z
UID:10003003-1764079200-1764080700@reenaseniorliving.com
SUMMARY:Balance Training with Kayla - Hallway near Activity Room
DESCRIPTION:
URL:https://reenaseniorliving.com/event-calendar/balance-training-with-kayla-hallway-near-activity-room-4/
LOCATION:Activity Room
CATEGORIES:Legacy Court
END:VEVENT
BEGIN:VEVENT
DTSTART;TZID=America/Chicago:20251125T133500
DTEND;TZID=America/Chicago:20251125T143000
DTSTAMP:20260424T005421
CREATED:20251027T064917Z
LAST-MODIFIED:20251125T093401Z
UID:10002878-1764077700-1764081000@reenaseniorliving.com
SUMMARY:Sing a Long - Christmas Music
DESCRIPTION:
URL:https://reenaseniorliving.com/event-calendar/sing-a-long-karaoke-on-tv-with-anne-10/
LOCATION:Activity Room
CATEGORIES:Assisted Living,Legacy Court
END:VEVENT
BEGIN:VEVENT
DTSTART;TZID=America/Chicago:20251125T130000
DTEND;TZID=America/Chicago:20251125T134000
DTSTAMP:20260424T005421
CREATED:20251027T083410Z
LAST-MODIFIED:20251103T090406Z
UID:10002881-1764075600-1764078000@reenaseniorliving.com
SUMMARY:Deep Dive with Dr. Bill: The Heart of the Matter - Heart Health
DESCRIPTION:
URL:https://reenaseniorliving.com/event-calendar/deep-dive-with-dr-bill-the-heart-of-the-matter-heart-health-2/
LOCATION:Activity Room
CATEGORIES:Assisted Living
END:VEVENT
BEGIN:VEVENT
DTSTART;TZID=America/Chicago:20251125T130000
DTEND;TZID=America/Chicago:20251125T133500
DTSTAMP:20260424T005421
CREATED:20251027T083410Z
LAST-MODIFIED:20251125T093401Z
UID:10002882-1764075600-1764077700@reenaseniorliving.com
SUMMARY:Birthday Party! Highlights of our Birthday Guests Lives.
DESCRIPTION:Cake and Beverage. Community Members with birthdays this month will have time to share something about themselves. It will be followed with music and singing at 3:00.
URL:https://reenaseniorliving.com/event-calendar/birthday-party-highlights-of-our-birthday-guests-lives-2/
LOCATION:Activity Room
CATEGORIES:Assisted Living
END:VEVENT
END:VCALENDAR