BEGIN:VCALENDAR
VERSION:2.0
PRODID:-//Reena Senior Living - ECPv6.11.2.1//NONSGML v1.0//EN
CALSCALE:GREGORIAN
METHOD:PUBLISH
X-WR-CALNAME:Reena Senior Living
X-ORIGINAL-URL:https://reenaseniorliving.com
X-WR-CALDESC:Events for Reena Senior Living
REFRESH-INTERVAL;VALUE=DURATION:PT1H
X-Robots-Tag:noindex
X-PUBLISHED-TTL:PT1H
BEGIN:VTIMEZONE
TZID:America/Chicago
BEGIN:DAYLIGHT
TZOFFSETFROM:-0600
TZOFFSETTO:-0500
TZNAME:CDT
DTSTART:20250309T080000
END:DAYLIGHT
BEGIN:STANDARD
TZOFFSETFROM:-0500
TZOFFSETTO:-0600
TZNAME:CST
DTSTART:20251102T070000
END:STANDARD
END:VTIMEZONE
BEGIN:VEVENT
DTSTART;TZID=America/Chicago:20251105T141500
DTEND;TZID=America/Chicago:20251105T161500
DTSTAMP:20260419T152950
CREATED:20251025T083404Z
LAST-MODIFIED:20251105T091902Z
UID:10002849-1762352100-1762359300@reenaseniorliving.com
SUMMARY:Shop - Piggly Wiggly & Twice is Nice - sign-up - They're located next to each other. Pick 1 or both.
DESCRIPTION:
URL:https://reenaseniorliving.com/event-calendar/bus-outing/
LOCATION:Bus Trip
CATEGORIES:Assisted Living
END:VEVENT
BEGIN:VEVENT
DTSTART;TZID=America/Chicago:20251103T133000
DTEND;TZID=America/Chicago:20251103T143000
DTSTAMP:20260419T152950
CREATED:20251103T070402Z
LAST-MODIFIED:20251103T070403Z
UID:10002953-1762176600-1762180200@reenaseniorliving.com
SUMMARY:Bus Drive with Dawn and Dorothy!
DESCRIPTION:
URL:https://reenaseniorliving.com/event-calendar/bus-drive-with-dawn-and-dorothy/
LOCATION:Bus Trip
CATEGORIES:Legacy Court
END:VEVENT
BEGIN:VEVENT
DTSTART;TZID=America/Chicago:20250724T104500
DTEND;TZID=America/Chicago:20250724T123000
DTSTAMP:20260419T152950
CREATED:20250701T053409Z
LAST-MODIFIED:20250701T053409Z
UID:10001112-1753353900-1753360200@reenaseniorliving.com
SUMMARY:Lunch at Pine Cone in Johnson Creek - Sign up - Pay only for what you buy. Reasonable prices.
DESCRIPTION:
URL:https://reenaseniorliving.com/event-calendar/lunch-at-pine-cone-in-johnson-creek-sign-up-pay-only-for-what-you-buy-reasonable-prices/
LOCATION:Bus Trip
CATEGORIES:Assisted Living
END:VEVENT
BEGIN:VEVENT
DTSTART;TZID=America/Chicago:20250721T104500
DTEND;TZID=America/Chicago:20250721T123000
DTSTAMP:20260419T152950
CREATED:20250702T053447Z
LAST-MODIFIED:20250715T060403Z
UID:10001126-1753094700-1753101000@reenaseniorliving.com
SUMMARY:Lunch at Pine Cone in Johnson Creek - Sign up - Pay only for what you buy. Reasonable prices.
DESCRIPTION:
URL:https://reenaseniorliving.com/event-calendar/lunch-at-pine-cone-in-johnson-creek-sign-up-pay-only-for-what-you-buy-reasonable-prices-2/
LOCATION:Bus Trip
CATEGORIES:Assisted Living
END:VEVENT
BEGIN:VEVENT
DTSTART;TZID=America/Chicago:20250710T100000
DTEND;TZID=America/Chicago:20250710T112000
DTSTAMP:20260419T152950
CREATED:20250701T030436Z
LAST-MODIFIED:20250710T031906Z
UID:10001100-1752141600-1752146400@reenaseniorliving.com
SUMMARY:Countryside Drive - Drive into Fairgrounds to see event.
DESCRIPTION:
URL:https://reenaseniorliving.com/event-calendar/countryside-drive-drive-into-fairgrounds-to-see-event/
LOCATION:Bus Trip
CATEGORIES:Legacy Court
END:VEVENT
BEGIN:VEVENT
DTSTART;TZID=America/Chicago:20250708T133000
DTEND;TZID=America/Chicago:20250708T154500
DTSTAMP:20260419T152950
CREATED:20250626T050418Z
LAST-MODIFIED:20250708T060409Z
UID:10001019-1751981400-1751989500@reenaseniorliving.com
SUMMARY:Walmart Shopping! Sign-Up
DESCRIPTION:
URL:https://reenaseniorliving.com/event-calendar/walmart-shopping-sign-up-2/
LOCATION:Bus Trip
CATEGORIES:Assisted Living
END:VEVENT
BEGIN:VEVENT
DTSTART;TZID=America/Chicago:20250623T103000
DTEND;TZID=America/Chicago:20250623T113000
DTSTAMP:20260419T152950
CREATED:20250617T182131Z
LAST-MODIFIED:20250623T050446Z
UID:10000832-1750674600-1750678200@reenaseniorliving.com
SUMMARY:Our Cow Bessie B. Ovine was voted "Best in Show" Let's go see the herd of 22 and bring her home.
DESCRIPTION:
URL:https://reenaseniorliving.com/event-calendar/our-cow-bessie-b-ovine-was-voted-best-in-show-lets-go-see-the-herd-of-22-and-bring-her-home/
LOCATION:Bus Trip
CATEGORIES:Assisted Living
END:VEVENT
BEGIN:VEVENT
DTSTART;TZID=America/Chicago:20250605T101500
DTEND;TZID=America/Chicago:20250605T113000
DTSTAMP:20260419T152950
CREATED:20250514T214951Z
LAST-MODIFIED:20250604T233632Z
UID:10000112-1749118500-1749123000@reenaseniorliving.com
SUMMARY:Deliver our entry in contest:  Bessie O. Bovine
DESCRIPTION:
URL:https://reenaseniorliving.com/event-calendar/deliver-our-entry-in-contest-bessie-o-bovine/
LOCATION:Bus Trip
CATEGORIES:Assisted Living
END:VEVENT
END:VCALENDAR