BEGIN:VCALENDAR
VERSION:2.0
PRODID:-//Reena Senior Living - ECPv6.11.2.1//NONSGML v1.0//EN
CALSCALE:GREGORIAN
METHOD:PUBLISH
X-WR-CALNAME:Reena Senior Living
X-ORIGINAL-URL:https://reenaseniorliving.com
X-WR-CALDESC:Events for Reena Senior Living
REFRESH-INTERVAL;VALUE=DURATION:PT1H
X-Robots-Tag:noindex
X-PUBLISHED-TTL:PT1H
BEGIN:VTIMEZONE
TZID:America/Chicago
BEGIN:DAYLIGHT
TZOFFSETFROM:-0600
TZOFFSETTO:-0500
TZNAME:CDT
DTSTART:20260308T080000
END:DAYLIGHT
BEGIN:STANDARD
TZOFFSETFROM:-0500
TZOFFSETTO:-0600
TZNAME:CST
DTSTART:20261101T070000
END:STANDARD
END:VTIMEZONE
BEGIN:VEVENT
DTSTART;TZID=America/Chicago:20260428T141000
DTEND;TZID=America/Chicago:20260428T142500
DTSTAMP:20260419T102236
CREATED:20260417T135014Z
LAST-MODIFIED:20260419T151943Z
UID:10005232-1777385400-1777386300@reenaseniorliving.com
SUMMARY:Oshibori
DESCRIPTION:Soothing and Tactile Pleasure.
URL:https://reenaseniorliving.com/event-calendar/oshibori-129/
LOCATION:LC Activity Room
CATEGORIES:Legacy Court
END:VEVENT
BEGIN:VEVENT
DTSTART;TZID=America/Chicago:20260428T141500
DTEND;TZID=America/Chicago:20260428T144000
DTSTAMP:20260419T102236
CREATED:20260417T135014Z
LAST-MODIFIED:20260419T151943Z
UID:10005231-1777385700-1777387200@reenaseniorliving.com
SUMMARY:Snack Delight and Social Time
DESCRIPTION:
URL:https://reenaseniorliving.com/event-calendar/snack-delight-and-social-time-89/
LOCATION:LC Activity Room
CATEGORIES:Legacy Court
END:VEVENT
BEGIN:VEVENT
DTSTART;TZID=America/Chicago:20260429T141500
DTEND;TZID=America/Chicago:20260429T144000
DTSTAMP:20260419T102236
CREATED:20260417T135016Z
LAST-MODIFIED:20260419T151945Z
UID:10005240-1777472100-1777473600@reenaseniorliving.com
SUMMARY:Snack Delight and Social Time
DESCRIPTION:
URL:https://reenaseniorliving.com/event-calendar/snack-delight-and-social-time-90/
LOCATION:LC Activity Room
CATEGORIES:Legacy Court
END:VEVENT
BEGIN:VEVENT
DTSTART;TZID=America/Chicago:20260430T141500
DTEND;TZID=America/Chicago:20260430T144000
DTSTAMP:20260419T102236
CREATED:20260417T135018Z
LAST-MODIFIED:20260419T151947Z
UID:10005246-1777558500-1777560000@reenaseniorliving.com
SUMMARY:Snack Delight and Social Time
DESCRIPTION:
URL:https://reenaseniorliving.com/event-calendar/snack-delight-and-social-time-91/
LOCATION:LC Activity Room
CATEGORIES:Legacy Court
END:VEVENT
BEGIN:VEVENT
DTSTART;TZID=America/Chicago:20260501T141500
DTEND;TZID=America/Chicago:20260501T144000
DTSTAMP:20260419T102236
CREATED:20260417T135020Z
LAST-MODIFIED:20260419T151948Z
UID:10005252-1777644900-1777646400@reenaseniorliving.com
SUMMARY:Snack Delight and Social Time
DESCRIPTION:
URL:https://reenaseniorliving.com/event-calendar/snack-delight-and-social-time-92/
LOCATION:LC Activity Room
CATEGORIES:Legacy Court
END:VEVENT
BEGIN:VEVENT
DTSTART;TZID=America/Chicago:20260502T141500
DTEND;TZID=America/Chicago:20260502T144000
DTSTAMP:20260419T102236
CREATED:20260417T135020Z
LAST-MODIFIED:20260419T151949Z
UID:10005254-1777731300-1777732800@reenaseniorliving.com
SUMMARY:Snack Delight and Social Time
DESCRIPTION:
URL:https://reenaseniorliving.com/event-calendar/snack-delight-and-social-time-93/
LOCATION:LC Activity Room
CATEGORIES:Legacy Court
END:VEVENT
BEGIN:VEVENT
DTSTART;TZID=America/Chicago:20260503T141500
DTEND;TZID=America/Chicago:20260503T144000
DTSTAMP:20260419T102236
CREATED:20260417T135021Z
LAST-MODIFIED:20260419T151950Z
UID:10005256-1777817700-1777819200@reenaseniorliving.com
SUMMARY:Snack Delight and Social Time
DESCRIPTION:
URL:https://reenaseniorliving.com/event-calendar/snack-delight-and-social-time-94/
LOCATION:LC Activity Room
CATEGORIES:Legacy Court
END:VEVENT
BEGIN:VEVENT
DTSTART;TZID=America/Chicago:20260504T141500
DTEND;TZID=America/Chicago:20260504T144000
DTSTAMP:20260419T102236
CREATED:20260417T135022Z
LAST-MODIFIED:20260419T151950Z
UID:10005265-1777904100-1777905600@reenaseniorliving.com
SUMMARY:Snack Delight and Social Time
DESCRIPTION:
URL:https://reenaseniorliving.com/event-calendar/snack-delight-and-social-time-95/
LOCATION:LC Activity Room
CATEGORIES:Legacy Court
END:VEVENT
BEGIN:VEVENT
DTSTART;TZID=America/Chicago:20260505T141000
DTEND;TZID=America/Chicago:20260505T142500
DTSTAMP:20260419T102236
CREATED:20260417T135024Z
LAST-MODIFIED:20260419T151953Z
UID:10005270-1777990200-1777991100@reenaseniorliving.com
SUMMARY:Oshibori
DESCRIPTION:Soothing and Tactile Pleasure.
URL:https://reenaseniorliving.com/event-calendar/oshibori-130/
LOCATION:LC Activity Room
CATEGORIES:Legacy Court
END:VEVENT
BEGIN:VEVENT
DTSTART;TZID=America/Chicago:20260505T141500
DTEND;TZID=America/Chicago:20260505T144000
DTSTAMP:20260419T102236
CREATED:20260417T135024Z
LAST-MODIFIED:20260419T151953Z
UID:10005271-1777990500-1777992000@reenaseniorliving.com
SUMMARY:Snack Delight and Social Time
DESCRIPTION:
URL:https://reenaseniorliving.com/event-calendar/snack-delight-and-social-time-96/
LOCATION:LC Activity Room
CATEGORIES:Legacy Court
END:VEVENT
BEGIN:VEVENT
DTSTART;TZID=America/Chicago:20260506T141500
DTEND;TZID=America/Chicago:20260506T144000
DTSTAMP:20260419T102236
CREATED:20260417T135025Z
LAST-MODIFIED:20260419T151954Z
UID:10005279-1778076900-1778078400@reenaseniorliving.com
SUMMARY:Snack Delight and Social Time
DESCRIPTION:
URL:https://reenaseniorliving.com/event-calendar/snack-delight-and-social-time-97/
LOCATION:LC Activity Room
CATEGORIES:Legacy Court
END:VEVENT
BEGIN:VEVENT
DTSTART;TZID=America/Chicago:20260507T141500
DTEND;TZID=America/Chicago:20260507T144000
DTSTAMP:20260419T102236
CREATED:20260417T135027Z
LAST-MODIFIED:20260419T151955Z
UID:10005285-1778163300-1778164800@reenaseniorliving.com
SUMMARY:Snack Delight and Social Time
DESCRIPTION:
URL:https://reenaseniorliving.com/event-calendar/snack-delight-and-social-time-98/
LOCATION:LC Activity Room
CATEGORIES:Legacy Court
END:VEVENT
BEGIN:VEVENT
DTSTART;TZID=America/Chicago:20260508T141500
DTEND;TZID=America/Chicago:20260508T144000
DTSTAMP:20260419T102236
CREATED:20260417T135028Z
LAST-MODIFIED:20260419T151956Z
UID:10005291-1778249700-1778251200@reenaseniorliving.com
SUMMARY:Snack Delight and Social Time
DESCRIPTION:
URL:https://reenaseniorliving.com/event-calendar/snack-delight-and-social-time-99/
LOCATION:LC Activity Room
CATEGORIES:Legacy Court
END:VEVENT
BEGIN:VEVENT
DTSTART;TZID=America/Chicago:20260509T141500
DTEND;TZID=America/Chicago:20260509T144000
DTSTAMP:20260419T102236
CREATED:20260417T135029Z
LAST-MODIFIED:20260419T151956Z
UID:10005293-1778336100-1778337600@reenaseniorliving.com
SUMMARY:Snack Delight and Social Time
DESCRIPTION:
URL:https://reenaseniorliving.com/event-calendar/snack-delight-and-social-time-100/
LOCATION:LC Activity Room
CATEGORIES:Legacy Court
END:VEVENT
BEGIN:VEVENT
DTSTART;TZID=America/Chicago:20260510T141500
DTEND;TZID=America/Chicago:20260510T144000
DTSTAMP:20260419T102236
CREATED:20260417T135029Z
LAST-MODIFIED:20260419T151956Z
UID:10005295-1778422500-1778424000@reenaseniorliving.com
SUMMARY:Snack Delight and Social Time
DESCRIPTION:
URL:https://reenaseniorliving.com/event-calendar/snack-delight-and-social-time-101/
LOCATION:LC Activity Room
CATEGORIES:Legacy Court
END:VEVENT
BEGIN:VEVENT
DTSTART;TZID=America/Chicago:20260511T141500
DTEND;TZID=America/Chicago:20260511T144000
DTSTAMP:20260419T102236
CREATED:20260417T135031Z
LAST-MODIFIED:20260419T151958Z
UID:10005301-1778508900-1778510400@reenaseniorliving.com
SUMMARY:Snack Delight and Social Time
DESCRIPTION:
URL:https://reenaseniorliving.com/event-calendar/snack-delight-and-social-time-102/
LOCATION:LC Activity Room
CATEGORIES:Legacy Court
END:VEVENT
BEGIN:VEVENT
DTSTART;TZID=America/Chicago:20260512T141000
DTEND;TZID=America/Chicago:20260512T142500
DTSTAMP:20260419T102236
CREATED:20260417T135033Z
LAST-MODIFIED:20260419T151959Z
UID:10005306-1778595000-1778595900@reenaseniorliving.com
SUMMARY:Oshibori
DESCRIPTION:Soothing and Tactile Pleasure.
URL:https://reenaseniorliving.com/event-calendar/oshibori-131/
LOCATION:LC Activity Room
CATEGORIES:Legacy Court
END:VEVENT
BEGIN:VEVENT
DTSTART;TZID=America/Chicago:20260512T141500
DTEND;TZID=America/Chicago:20260512T144000
DTSTAMP:20260419T102236
CREATED:20260417T135033Z
LAST-MODIFIED:20260419T151959Z
UID:10005307-1778595300-1778596800@reenaseniorliving.com
SUMMARY:Snack Delight and Social Time
DESCRIPTION:
URL:https://reenaseniorliving.com/event-calendar/snack-delight-and-social-time-103/
LOCATION:LC Activity Room
CATEGORIES:Legacy Court
END:VEVENT
BEGIN:VEVENT
DTSTART;TZID=America/Chicago:20260513T141500
DTEND;TZID=America/Chicago:20260513T144000
DTSTAMP:20260419T102236
CREATED:20260417T135035Z
LAST-MODIFIED:20260419T152000Z
UID:10005314-1778681700-1778683200@reenaseniorliving.com
SUMMARY:Snack Delight and Social Time
DESCRIPTION:
URL:https://reenaseniorliving.com/event-calendar/snack-delight-and-social-time-104/
LOCATION:LC Activity Room
CATEGORIES:Legacy Court
END:VEVENT
BEGIN:VEVENT
DTSTART;TZID=America/Chicago:20260514T141500
DTEND;TZID=America/Chicago:20260514T144000
DTSTAMP:20260419T102236
CREATED:20260417T135037Z
LAST-MODIFIED:20260419T152002Z
UID:10005321-1778768100-1778769600@reenaseniorliving.com
SUMMARY:Snack Delight and Social Time
DESCRIPTION:
URL:https://reenaseniorliving.com/event-calendar/snack-delight-and-social-time-105/
LOCATION:LC Activity Room
CATEGORIES:Legacy Court
END:VEVENT
BEGIN:VEVENT
DTSTART;TZID=America/Chicago:20260515T141500
DTEND;TZID=America/Chicago:20260515T144000
DTSTAMP:20260419T102236
CREATED:20260417T135039Z
LAST-MODIFIED:20260419T152003Z
UID:10005257-1778854500-1778856000@reenaseniorliving.com
SUMMARY:Snack Delight and Social Time
DESCRIPTION:
URL:https://reenaseniorliving.com/event-calendar/snack-delight-and-social-time-106/
LOCATION:LC Activity Room
CATEGORIES:Legacy Court
END:VEVENT
BEGIN:VEVENT
DTSTART;TZID=America/Chicago:20260516T141500
DTEND;TZID=America/Chicago:20260516T144000
DTSTAMP:20260419T102236
CREATED:20260417T135040Z
LAST-MODIFIED:20260419T152003Z
UID:10005260-1778940900-1778942400@reenaseniorliving.com
SUMMARY:Snack Delight and Social Time
DESCRIPTION:
URL:https://reenaseniorliving.com/event-calendar/snack-delight-and-social-time-107/
LOCATION:LC Activity Room
CATEGORIES:Legacy Court
END:VEVENT
BEGIN:VEVENT
DTSTART;TZID=America/Chicago:20260517T141500
DTEND;TZID=America/Chicago:20260517T144000
DTSTAMP:20260419T102236
CREATED:20260418T150500Z
LAST-MODIFIED:20260419T152003Z
UID:10005331-1779027300-1779028800@reenaseniorliving.com
SUMMARY:Snack Delight and Social Time
DESCRIPTION:
URL:https://reenaseniorliving.com/event-calendar/snack-delight-and-social-time-108/
LOCATION:LC Activity Room
CATEGORIES:Legacy Court
END:VEVENT
BEGIN:VEVENT
DTSTART;TZID=America/Chicago:20260518T141500
DTEND;TZID=America/Chicago:20260518T144000
DTSTAMP:20260419T102236
CREATED:20260419T152004Z
LAST-MODIFIED:20260419T152004Z
UID:10005342-1779113700-1779115200@reenaseniorliving.com
SUMMARY:Snack Delight and Social Time
DESCRIPTION:
URL:https://reenaseniorliving.com/event-calendar/snack-delight-and-social-time-109/
LOCATION:LC Activity Room
CATEGORIES:Legacy Court
END:VEVENT
END:VCALENDAR