BEGIN:VCALENDAR
VERSION:2.0
PRODID:-//Reena Senior Living - ECPv6.11.2.1//NONSGML v1.0//EN
CALSCALE:GREGORIAN
METHOD:PUBLISH
X-ORIGINAL-URL:https://reenaseniorliving.com
X-WR-CALDESC:Events for Reena Senior Living
REFRESH-INTERVAL;VALUE=DURATION:PT1H
X-Robots-Tag:noindex
X-PUBLISHED-TTL:PT1H
BEGIN:VTIMEZONE
TZID:America/Chicago
BEGIN:DAYLIGHT
TZOFFSETFROM:-0600
TZOFFSETTO:-0500
TZNAME:CDT
DTSTART:20260308T080000
END:DAYLIGHT
BEGIN:STANDARD
TZOFFSETFROM:-0500
TZOFFSETTO:-0600
TZNAME:CST
DTSTART:20261101T070000
END:STANDARD
END:VTIMEZONE
BEGIN:VEVENT
DTSTART;TZID=America/Chicago:20260423T123000
DTEND;TZID=America/Chicago:20260423T124500
DTSTAMP:20260419T114408
CREATED:20260325T094930Z
LAST-MODIFIED:20260419T151937Z
UID:10005020-1776947400-1776948300@reenaseniorliving.com
SUMMARY:Group Walking for Good Health
DESCRIPTION:
URL:https://reenaseniorliving.com/event-calendar/group-walking-for-good-health-30/
LOCATION:Legacy Court
CATEGORIES:Legacy Court
END:VEVENT
BEGIN:VEVENT
DTSTART;TZID=America/Chicago:20260423T141500
DTEND;TZID=America/Chicago:20260423T144500
DTSTAMP:20260419T114408
CREATED:20260325T094931Z
LAST-MODIFIED:20260325T094931Z
UID:10005022-1776953700-1776955500@reenaseniorliving.com
SUMMARY:Music Appreciation - Radio or Records
DESCRIPTION:Records or 50’s and 60’s variety this month\nTV OFF
URL:https://reenaseniorliving.com/event-calendar/music-appreciation-radio-or-records-45/
LOCATION:Legacy Court
CATEGORIES:Legacy Court
END:VEVENT
BEGIN:VEVENT
DTSTART;TZID=America/Chicago:20260423T143000
DTEND;TZID=America/Chicago:20260423T145000
DTSTAMP:20260419T114408
CREATED:20260325T094931Z
LAST-MODIFIED:20260325T094931Z
UID:10005024-1776954600-1776955800@reenaseniorliving.com
SUMMARY:Grandma's Garden Social Time
DESCRIPTION:
URL:https://reenaseniorliving.com/event-calendar/grandmas-garden-social-time-23/
LOCATION:Legacy Court
CATEGORIES:Legacy Court
END:VEVENT
BEGIN:VEVENT
DTSTART;TZID=America/Chicago:20260423T154500
DTEND;TZID=America/Chicago:20260423T161500
DTSTAMP:20260419T114408
CREATED:20260417T135009Z
LAST-MODIFIED:20260419T151938Z
UID:10005210-1776959100-1776960900@reenaseniorliving.com
SUMMARY:Creative Color and Stamping Time.
DESCRIPTION:
URL:https://reenaseniorliving.com/event-calendar/creative-color-and-stamping-time-2/
LOCATION:Legacy Court
CATEGORIES:Legacy Court
END:VEVENT
BEGIN:VEVENT
DTSTART;TZID=America/Chicago:20260427T134500
DTEND;TZID=America/Chicago:20260427T140000
DTSTAMP:20260419T114408
CREATED:20260417T135012Z
LAST-MODIFIED:20260419T151942Z
UID:10005226-1777297500-1777298400@reenaseniorliving.com
SUMMARY:Jerry Apps - Great Storyteller Book Reading and Discussion
DESCRIPTION:Jerry Apps and Other Authors that reflect days gone by. Lessons and Reminiscing Fun!
URL:https://reenaseniorliving.com/event-calendar/jerry-apps-great-storyteller-book-reading-and-discussion-51/
LOCATION:Legacy Court
CATEGORIES:Legacy Court
END:VEVENT
BEGIN:VEVENT
DTSTART;TZID=America/Chicago:20260428T135000
DTEND;TZID=America/Chicago:20260428T142000
DTSTAMP:20260419T114408
CREATED:20260417T135014Z
LAST-MODIFIED:20260419T151943Z
UID:10005233-1777384200-1777386000@reenaseniorliving.com
SUMMARY:Walking and Wheeling Group!
DESCRIPTION:
URL:https://reenaseniorliving.com/event-calendar/walking-and-wheeling-group-24/
LOCATION:Legacy Court
CATEGORIES:Legacy Court
END:VEVENT
BEGIN:VEVENT
DTSTART;TZID=America/Chicago:20260429T101500
DTEND;TZID=America/Chicago:20260429T111500
DTSTAMP:20260419T114408
CREATED:20260331T055020Z
LAST-MODIFIED:20260419T151944Z
UID:10005079-1777457700-1777461300@reenaseniorliving.com
SUMMARY:Catholic Service at Legacy Court
DESCRIPTION:
URL:https://reenaseniorliving.com/event-calendar/catholic-service-at-legacy-court-25/
LOCATION:Legacy Court
CATEGORIES:Assisted Living,Legacy Court
END:VEVENT
BEGIN:VEVENT
DTSTART;TZID=America/Chicago:20260429T112500
DTEND;TZID=America/Chicago:20260429T113000
DTSTAMP:20260419T114408
CREATED:20260417T135015Z
LAST-MODIFIED:20260419T151944Z
UID:10005236-1777461900-1777462200@reenaseniorliving.com
SUMMARY:Pledge of Allegiance
DESCRIPTION:
URL:https://reenaseniorliving.com/event-calendar/pledge-of-allegiance-43/
LOCATION:Legacy Court
CATEGORIES:Legacy Court
END:VEVENT
BEGIN:VEVENT
DTSTART;TZID=America/Chicago:20260429T161500
DTEND;TZID=America/Chicago:20260429T163000
DTSTAMP:20260419T114408
CREATED:20260417T135017Z
LAST-MODIFIED:20260419T151946Z
UID:10005242-1777479300-1777480200@reenaseniorliving.com
SUMMARY:Walking Group Time - Healthy Movement\, Healthy Body
DESCRIPTION:
URL:https://reenaseniorliving.com/event-calendar/walking-group-time-healthy-movement-healthy-body-64/
LOCATION:Legacy Court
CATEGORIES:Legacy Court
END:VEVENT
BEGIN:VEVENT
DTSTART;TZID=America/Chicago:20260430T123000
DTEND;TZID=America/Chicago:20260430T124500
DTSTAMP:20260419T114408
CREATED:20260417T135017Z
LAST-MODIFIED:20260419T151946Z
UID:10005243-1777552200-1777553100@reenaseniorliving.com
SUMMARY:Group Walking for Good Health
DESCRIPTION:
URL:https://reenaseniorliving.com/event-calendar/group-walking-for-good-health-31/
LOCATION:Legacy Court
CATEGORIES:Legacy Court
END:VEVENT
BEGIN:VEVENT
DTSTART;TZID=America/Chicago:20260430T141500
DTEND;TZID=America/Chicago:20260430T144500
DTSTAMP:20260419T114408
CREATED:20260417T135018Z
LAST-MODIFIED:20260419T151947Z
UID:10005245-1777558500-1777560300@reenaseniorliving.com
SUMMARY:Music Appreciation - Radio or Records
DESCRIPTION:Records or 50’s and 60’s variety this month\nTV OFF
URL:https://reenaseniorliving.com/event-calendar/music-appreciation-radio-or-records-46/
LOCATION:Legacy Court
CATEGORIES:Legacy Court
END:VEVENT
BEGIN:VEVENT
DTSTART;TZID=America/Chicago:20260430T143000
DTEND;TZID=America/Chicago:20260430T145000
DTSTAMP:20260419T114408
CREATED:20260417T135018Z
LAST-MODIFIED:20260419T151947Z
UID:10005247-1777559400-1777560600@reenaseniorliving.com
SUMMARY:Grandma's Garden Social Time
DESCRIPTION:
URL:https://reenaseniorliving.com/event-calendar/grandmas-garden-social-time-25/
LOCATION:Legacy Court
CATEGORIES:Legacy Court
END:VEVENT
BEGIN:VEVENT
DTSTART;TZID=America/Chicago:20260501T131500
DTEND;TZID=America/Chicago:20260501T141000
DTSTAMP:20260419T114408
CREATED:20260417T135020Z
LAST-MODIFIED:20260419T151948Z
UID:10005251-1777641300-1777644600@reenaseniorliving.com
SUMMARY:Creative Color and Stamping Time.
DESCRIPTION:
URL:https://reenaseniorliving.com/event-calendar/creative-color-and-stamping-time-3/
LOCATION:Legacy Court
CATEGORIES:Legacy Court
END:VEVENT
BEGIN:VEVENT
DTSTART;TZID=America/Chicago:20260504T134500
DTEND;TZID=America/Chicago:20260504T140000
DTSTAMP:20260419T114408
CREATED:20260417T135022Z
LAST-MODIFIED:20260419T151950Z
UID:10005264-1777902300-1777903200@reenaseniorliving.com
SUMMARY:Jerry Apps - Great Storyteller Book Reading and Discussion
DESCRIPTION:Jerry Apps and Other Authors that reflect days gone by. Lessons and Reminiscing Fun!
URL:https://reenaseniorliving.com/event-calendar/jerry-apps-great-storyteller-book-reading-and-discussion-52/
LOCATION:Legacy Court
CATEGORIES:Legacy Court
END:VEVENT
BEGIN:VEVENT
DTSTART;TZID=America/Chicago:20260505T135000
DTEND;TZID=America/Chicago:20260505T142000
DTSTAMP:20260419T114408
CREATED:20260417T135023Z
LAST-MODIFIED:20260419T151952Z
UID:10005269-1777989000-1777990800@reenaseniorliving.com
SUMMARY:Walking and Wheeling Group!
DESCRIPTION:
URL:https://reenaseniorliving.com/event-calendar/walking-and-wheeling-group-25/
LOCATION:Legacy Court
CATEGORIES:Legacy Court
END:VEVENT
BEGIN:VEVENT
DTSTART;TZID=America/Chicago:20260506T101500
DTEND;TZID=America/Chicago:20260506T111500
DTSTAMP:20260419T114408
CREATED:20260407T060512Z
LAST-MODIFIED:20260419T151953Z
UID:10005114-1778062500-1778066100@reenaseniorliving.com
SUMMARY:Catholic Service at Legacy Court
DESCRIPTION:
URL:https://reenaseniorliving.com/event-calendar/catholic-service-at-legacy-court-26/
LOCATION:Legacy Court
CATEGORIES:Assisted Living,Legacy Court
END:VEVENT
BEGIN:VEVENT
DTSTART;TZID=America/Chicago:20260506T112500
DTEND;TZID=America/Chicago:20260506T113000
DTSTAMP:20260419T114408
CREATED:20260417T135025Z
LAST-MODIFIED:20260419T151954Z
UID:10005275-1778066700-1778067000@reenaseniorliving.com
SUMMARY:Pledge of Allegiance
DESCRIPTION:
URL:https://reenaseniorliving.com/event-calendar/pledge-of-allegiance-44/
LOCATION:Legacy Court
CATEGORIES:Legacy Court
END:VEVENT
BEGIN:VEVENT
DTSTART;TZID=America/Chicago:20260506T161500
DTEND;TZID=America/Chicago:20260506T163000
DTSTAMP:20260419T114408
CREATED:20260417T135025Z
LAST-MODIFIED:20260419T151954Z
UID:10005281-1778084100-1778085000@reenaseniorliving.com
SUMMARY:Walking Group Time - Healthy Movement\, Healthy Body
DESCRIPTION:
URL:https://reenaseniorliving.com/event-calendar/walking-group-time-healthy-movement-healthy-body-65/
LOCATION:Legacy Court
CATEGORIES:Legacy Court
END:VEVENT
BEGIN:VEVENT
DTSTART;TZID=America/Chicago:20260507T123000
DTEND;TZID=America/Chicago:20260507T124500
DTSTAMP:20260419T114408
CREATED:20260417T135026Z
LAST-MODIFIED:20260419T151954Z
UID:10005282-1778157000-1778157900@reenaseniorliving.com
SUMMARY:Group Walking for Good Health
DESCRIPTION:
URL:https://reenaseniorliving.com/event-calendar/group-walking-for-good-health-32/
LOCATION:Legacy Court
CATEGORIES:Legacy Court
END:VEVENT
BEGIN:VEVENT
DTSTART;TZID=America/Chicago:20260507T141500
DTEND;TZID=America/Chicago:20260507T144500
DTSTAMP:20260419T114408
CREATED:20260417T135026Z
LAST-MODIFIED:20260419T151955Z
UID:10005284-1778163300-1778165100@reenaseniorliving.com
SUMMARY:Music Appreciation - Radio or Records
DESCRIPTION:Records or 50’s and 60’s variety this month\nTV OFF
URL:https://reenaseniorliving.com/event-calendar/music-appreciation-radio-or-records-47/
LOCATION:Legacy Court
CATEGORIES:Legacy Court
END:VEVENT
BEGIN:VEVENT
DTSTART;TZID=America/Chicago:20260507T143000
DTEND;TZID=America/Chicago:20260507T145000
DTSTAMP:20260419T114408
CREATED:20260417T135027Z
LAST-MODIFIED:20260419T151955Z
UID:10005286-1778164200-1778165400@reenaseniorliving.com
SUMMARY:Grandma's Garden Social Time
DESCRIPTION:
URL:https://reenaseniorliving.com/event-calendar/grandmas-garden-social-time-26/
LOCATION:Legacy Court
CATEGORIES:Legacy Court
END:VEVENT
BEGIN:VEVENT
DTSTART;TZID=America/Chicago:20260508T131500
DTEND;TZID=America/Chicago:20260508T141000
DTSTAMP:20260419T114408
CREATED:20260417T135028Z
LAST-MODIFIED:20260419T151956Z
UID:10005290-1778246100-1778249400@reenaseniorliving.com
SUMMARY:Creative Color and Stamping Time.
DESCRIPTION:
URL:https://reenaseniorliving.com/event-calendar/creative-color-and-stamping-time-4/
LOCATION:Legacy Court
CATEGORIES:Legacy Court
END:VEVENT
BEGIN:VEVENT
DTSTART;TZID=America/Chicago:20260511T101500
DTEND;TZID=America/Chicago:20260511T110000
DTSTAMP:20260419T114408
CREATED:20260412T060410Z
LAST-MODIFIED:20260419T151957Z
UID:10005166-1778494500-1778497200@reenaseniorliving.com
SUMMARY:Lutheran Service with Ann this month - Legacy Court
DESCRIPTION:
URL:https://reenaseniorliving.com/event-calendar/lutheran-service-with-ann-this-month-legacy-court/
LOCATION:Legacy Court
CATEGORIES:Assisted Living,Legacy Court
END:VEVENT
BEGIN:VEVENT
DTSTART;TZID=America/Chicago:20260511T134500
DTEND;TZID=America/Chicago:20260511T140000
DTSTAMP:20260419T114408
CREATED:20260417T135031Z
LAST-MODIFIED:20260419T151958Z
UID:10005300-1778507100-1778508000@reenaseniorliving.com
SUMMARY:Jerry Apps - Great Storyteller Book Reading and Discussion
DESCRIPTION:Jerry Apps and Other Authors that reflect days gone by. Lessons and Reminiscing Fun!
URL:https://reenaseniorliving.com/event-calendar/jerry-apps-great-storyteller-book-reading-and-discussion-53/
LOCATION:Legacy Court
CATEGORIES:Legacy Court
END:VEVENT
BEGIN:VEVENT
DTSTART;TZID=America/Chicago:20260512T135000
DTEND;TZID=America/Chicago:20260512T142000
DTSTAMP:20260419T114408
CREATED:20260417T135033Z
LAST-MODIFIED:20260419T151958Z
UID:10005305-1778593800-1778595600@reenaseniorliving.com
SUMMARY:Walking and Wheeling Group!
DESCRIPTION:
URL:https://reenaseniorliving.com/event-calendar/walking-and-wheeling-group-26/
LOCATION:Legacy Court
CATEGORIES:Legacy Court
END:VEVENT
BEGIN:VEVENT
DTSTART;TZID=America/Chicago:20260513T101500
DTEND;TZID=America/Chicago:20260513T111500
DTSTAMP:20260419T114408
CREATED:20260414T061916Z
LAST-MODIFIED:20260419T151959Z
UID:10005176-1778667300-1778670900@reenaseniorliving.com
SUMMARY:Catholic Service at Legacy Court
DESCRIPTION:
URL:https://reenaseniorliving.com/event-calendar/catholic-service-at-legacy-court-27/
LOCATION:Legacy Court
CATEGORIES:Assisted Living,Legacy Court
END:VEVENT
BEGIN:VEVENT
DTSTART;TZID=America/Chicago:20260513T112500
DTEND;TZID=America/Chicago:20260513T113000
DTSTAMP:20260419T114408
CREATED:20260417T135034Z
LAST-MODIFIED:20260419T151959Z
UID:10005310-1778671500-1778671800@reenaseniorliving.com
SUMMARY:Pledge of Allegiance
DESCRIPTION:
URL:https://reenaseniorliving.com/event-calendar/pledge-of-allegiance-45/
LOCATION:Legacy Court
CATEGORIES:Legacy Court
END:VEVENT
BEGIN:VEVENT
DTSTART;TZID=America/Chicago:20260513T161500
DTEND;TZID=America/Chicago:20260513T163000
DTSTAMP:20260419T114408
CREATED:20260417T135036Z
LAST-MODIFIED:20260419T152001Z
UID:10005316-1778688900-1778689800@reenaseniorliving.com
SUMMARY:Walking Group Time - Healthy Movement\, Healthy Body
DESCRIPTION:
URL:https://reenaseniorliving.com/event-calendar/walking-group-time-healthy-movement-healthy-body-66/
LOCATION:Legacy Court
CATEGORIES:Legacy Court
END:VEVENT
BEGIN:VEVENT
DTSTART;TZID=America/Chicago:20260514T123000
DTEND;TZID=America/Chicago:20260514T124500
DTSTAMP:20260419T114408
CREATED:20260417T135037Z
LAST-MODIFIED:20260419T152001Z
UID:10005318-1778761800-1778762700@reenaseniorliving.com
SUMMARY:Group Walking for Good Health
DESCRIPTION:
URL:https://reenaseniorliving.com/event-calendar/group-walking-for-good-health-33/
LOCATION:Legacy Court
CATEGORIES:Legacy Court
END:VEVENT
BEGIN:VEVENT
DTSTART;TZID=America/Chicago:20260514T141500
DTEND;TZID=America/Chicago:20260514T144500
DTSTAMP:20260419T114408
CREATED:20260417T135037Z
LAST-MODIFIED:20260419T152002Z
UID:10005320-1778768100-1778769900@reenaseniorliving.com
SUMMARY:Music Appreciation - Radio or Records
DESCRIPTION:Records or 50’s and 60’s variety this month\nTV OFF
URL:https://reenaseniorliving.com/event-calendar/music-appreciation-radio-or-records-48/
LOCATION:Legacy Court
CATEGORIES:Legacy Court
END:VEVENT
END:VCALENDAR