BEGIN:VCALENDAR
VERSION:2.0
PRODID:-//Reena Senior Living - ECPv6.11.2.1//NONSGML v1.0//EN
CALSCALE:GREGORIAN
METHOD:PUBLISH
X-ORIGINAL-URL:https://reenaseniorliving.com
X-WR-CALDESC:Events for Reena Senior Living
REFRESH-INTERVAL;VALUE=DURATION:PT1H
X-Robots-Tag:noindex
X-PUBLISHED-TTL:PT1H
BEGIN:VTIMEZONE
TZID:America/Chicago
BEGIN:DAYLIGHT
TZOFFSETFROM:-0600
TZOFFSETTO:-0500
TZNAME:CDT
DTSTART:20260308T080000
END:DAYLIGHT
BEGIN:STANDARD
TZOFFSETFROM:-0500
TZOFFSETTO:-0600
TZNAME:CST
DTSTART:20261101T070000
END:STANDARD
END:VTIMEZONE
BEGIN:VEVENT
DTSTART;TZID=America/Chicago:20260421T090000
DTEND;TZID=America/Chicago:20260421T093000
DTSTAMP:20260419T114343
CREATED:20260323T094930Z
LAST-MODIFIED:20260419T151946Z
UID:10004993-1776762000-1776763800@reenaseniorliving.com
SUMMARY:Linked Senior Fun with Laurie
DESCRIPTION:linked senior
URL:https://reenaseniorliving.com/event-calendar/linked-senior-fun-with-laurie-33/
LOCATION:Living Room
CATEGORIES:Legacy Court
END:VEVENT
BEGIN:VEVENT
DTSTART;TZID=America/Chicago:20260421T174500
DTEND;TZID=America/Chicago:20260421T184500
DTSTAMP:20260419T114343
CREATED:20260323T094931Z
LAST-MODIFIED:20260325T094928Z
UID:10005001-1776793500-1776797100@reenaseniorliving.com
SUMMARY:Nails (polish or fingernail trim)
DESCRIPTION:
URL:https://reenaseniorliving.com/event-calendar/nails-polish-or-fingernail-trim-36/
LOCATION:Living Room
CATEGORIES:Legacy Court
END:VEVENT
BEGIN:VEVENT
DTSTART;TZID=America/Chicago:20260423T085000
DTEND;TZID=America/Chicago:20260423T113000
DTSTAMP:20260419T114343
CREATED:20260417T135003Z
LAST-MODIFIED:20260419T151937Z
UID:10005208-1776934200-1776943800@reenaseniorliving.com
SUMMARY:Nails (polish or fingernail trim)
DESCRIPTION:
URL:https://reenaseniorliving.com/event-calendar/nails-polish-or-fingernail-trim-37/
LOCATION:Living Room
CATEGORIES:Legacy Court
END:VEVENT
BEGIN:VEVENT
DTSTART;TZID=America/Chicago:20260428T093000
DTEND;TZID=America/Chicago:20260428T100000
DTSTAMP:20260419T114343
CREATED:20260417T135013Z
LAST-MODIFIED:20260419T151943Z
UID:10005229-1777368600-1777370400@reenaseniorliving.com
SUMMARY:Linked Senior Fun with Laurie
DESCRIPTION:linked senior
URL:https://reenaseniorliving.com/event-calendar/linked-senior-fun-with-laurie-34/
LOCATION:Living Room
CATEGORIES:Legacy Court
END:VEVENT
BEGIN:VEVENT
DTSTART;TZID=America/Chicago:20260505T093000
DTEND;TZID=America/Chicago:20260505T100000
DTSTAMP:20260419T114343
CREATED:20260417T135023Z
LAST-MODIFIED:20260419T151952Z
UID:10005267-1777973400-1777975200@reenaseniorliving.com
SUMMARY:Linked Senior Fun with Laurie
DESCRIPTION:linked senior
URL:https://reenaseniorliving.com/event-calendar/linked-senior-fun-with-laurie-35/
LOCATION:Living Room
CATEGORIES:Legacy Court
END:VEVENT
BEGIN:VEVENT
DTSTART;TZID=America/Chicago:20260505T174500
DTEND;TZID=America/Chicago:20260505T184500
DTSTAMP:20260419T114343
CREATED:20260417T135024Z
LAST-MODIFIED:20260419T151953Z
UID:10005273-1778003100-1778006700@reenaseniorliving.com
SUMMARY:Nails (polish or fingernail trim)
DESCRIPTION:
URL:https://reenaseniorliving.com/event-calendar/nails-polish-or-fingernail-trim-38/
LOCATION:Living Room
CATEGORIES:Legacy Court
END:VEVENT
BEGIN:VEVENT
DTSTART;TZID=America/Chicago:20260512T093000
DTEND;TZID=America/Chicago:20260512T100000
DTSTAMP:20260419T114343
CREATED:20260417T135032Z
LAST-MODIFIED:20260419T151958Z
UID:10005303-1778578200-1778580000@reenaseniorliving.com
SUMMARY:Linked Senior Fun with Laurie
DESCRIPTION:linked senior
URL:https://reenaseniorliving.com/event-calendar/linked-senior-fun-with-laurie-36/
LOCATION:Living Room
CATEGORIES:Legacy Court
END:VEVENT
BEGIN:VEVENT
DTSTART;TZID=America/Chicago:20260519T093000
DTEND;TZID=America/Chicago:20260519T100000
DTSTAMP:20260419T114343
CREATED:20260419T152005Z
LAST-MODIFIED:20260419T152005Z
UID:10005344-1779183000-1779184800@reenaseniorliving.com
SUMMARY:Linked Senior Fun with Laurie
DESCRIPTION:linked senior
URL:https://reenaseniorliving.com/event-calendar/linked-senior-fun-with-laurie-37/
LOCATION:Living Room
CATEGORIES:Legacy Court
END:VEVENT
END:VCALENDAR