BEGIN:VCALENDAR
VERSION:2.0
PRODID:-//Reena Senior Living - ECPv6.11.2.1//NONSGML v1.0//EN
CALSCALE:GREGORIAN
METHOD:PUBLISH
X-WR-CALNAME:Reena Senior Living
X-ORIGINAL-URL:https://reenaseniorliving.com
X-WR-CALDESC:Events for Reena Senior Living
REFRESH-INTERVAL;VALUE=DURATION:PT1H
X-Robots-Tag:noindex
X-PUBLISHED-TTL:PT1H
BEGIN:VTIMEZONE
TZID:America/Chicago
BEGIN:DAYLIGHT
TZOFFSETFROM:-0600
TZOFFSETTO:-0500
TZNAME:CDT
DTSTART:20250309T080000
END:DAYLIGHT
BEGIN:STANDARD
TZOFFSETFROM:-0500
TZOFFSETTO:-0600
TZNAME:CST
DTSTART:20251102T070000
END:STANDARD
END:VTIMEZONE
BEGIN:VEVENT
DTSTART;TZID=America/Chicago:20250625T123000
DTEND;TZID=America/Chicago:20250625T124500
DTSTAMP:20260420T181410
CREATED:20250526T230409Z
LAST-MODIFIED:20250625T050409Z
UID:10000527-1750854600-1750855500@reenaseniorliving.com
SUMMARY:Reading of Agnus Dei with volunteer Dorothy
DESCRIPTION:
URL:https://reenaseniorliving.com/event-calendar/reading-of-agnus-dei-with-volunteer-dorothy-3/
LOCATION:Pub
CATEGORIES:Assisted Living
END:VEVENT
BEGIN:VEVENT
DTSTART;TZID=America/Chicago:20250623T123000
DTEND;TZID=America/Chicago:20250623T130000
DTSTAMP:20260420T181410
CREATED:20250524T224053Z
LAST-MODIFIED:20250623T050446Z
UID:10000497-1750681800-1750683600@reenaseniorliving.com
SUMMARY:Rosary with Volunteer Dorothy
DESCRIPTION:
URL:https://reenaseniorliving.com/event-calendar/rosary-with-volunteer-dorothy-6/
LOCATION:Pub
CATEGORIES:Assisted Living
END:VEVENT
BEGIN:VEVENT
DTSTART;TZID=America/Chicago:20250620T133000
DTEND;TZID=America/Chicago:20250620T140000
DTSTAMP:20260420T181410
CREATED:20250529T232248Z
LAST-MODIFIED:20250620T050635Z
UID:10000580-1750426200-1750428000@reenaseniorliving.com
SUMMARY:Story of Christ reading with volunteer Dorothy
DESCRIPTION:
URL:https://reenaseniorliving.com/event-calendar/story-of-christ-reading-with-volunteer-dorothy-3/
LOCATION:Pub
CATEGORIES:Assisted Living
END:VEVENT
BEGIN:VEVENT
DTSTART;TZID=America/Chicago:20250616T123000
DTEND;TZID=America/Chicago:20250616T130000
DTSTAMP:20260420T181410
CREATED:20250517T214924Z
LAST-MODIFIED:20250616T003532Z
UID:10000403-1750077000-1750078800@reenaseniorliving.com
SUMMARY:Rosary with Volunteer Dorothy
DESCRIPTION:
URL:https://reenaseniorliving.com/event-calendar/rosary-with-volunteer-dorothy-5/
LOCATION:Pub
CATEGORIES:Assisted Living
END:VEVENT
BEGIN:VEVENT
DTSTART;TZID=America/Chicago:20250613T133000
DTEND;TZID=America/Chicago:20250613T140000
DTSTAMP:20260420T181410
CREATED:20250529T232202Z
LAST-MODIFIED:20250613T001903Z
UID:10000579-1749821400-1749823200@reenaseniorliving.com
SUMMARY:Story of Christ reading with volunteer Dorothy
DESCRIPTION:
URL:https://reenaseniorliving.com/event-calendar/story-of-christ-reading-with-volunteer-dorothy-2/
LOCATION:Pub
CATEGORIES:Assisted Living
END:VEVENT
BEGIN:VEVENT
DTSTART;TZID=America/Chicago:20250611T151500
DTEND;TZID=America/Chicago:20250611T161500
DTSTAMP:20260420T181410
CREATED:20250514T214957Z
LAST-MODIFIED:20250514T214957Z
UID:10000145-1749654900-1749658500@reenaseniorliving.com
SUMMARY:Men's Chap Chat with Chaplain Lee
DESCRIPTION:
URL:https://reenaseniorliving.com/event-calendar/mens-chap-chat-with-chaplain-lee/
LOCATION:Pub
CATEGORIES:Assisted Living
END:VEVENT
BEGIN:VEVENT
DTSTART;TZID=America/Chicago:20250611T123000
DTEND;TZID=America/Chicago:20250611T124500
DTSTAMP:20260420T181410
CREATED:20250514T214955Z
LAST-MODIFIED:20250514T214955Z
UID:10000142-1749645000-1749645900@reenaseniorliving.com
SUMMARY:Reading of AGNUS DEI with volunteer Dorothy
DESCRIPTION:
URL:https://reenaseniorliving.com/event-calendar/reading-of-agnus-dei-with-volunteer-dorothy-2/
LOCATION:Pub
CATEGORIES:Assisted Living
END:VEVENT
BEGIN:VEVENT
DTSTART;TZID=America/Chicago:20250609T123000
DTEND;TZID=America/Chicago:20250609T130000
DTSTAMP:20260420T181410
CREATED:20250514T214953Z
LAST-MODIFIED:20250609T002008Z
UID:10000133-1749472200-1749474000@reenaseniorliving.com
SUMMARY:Rosary with Volunteer Dorothy
DESCRIPTION:
URL:https://reenaseniorliving.com/event-calendar/rosary-with-volunteer-dorothy-4/
LOCATION:Pub
CATEGORIES:Assisted Living
END:VEVENT
BEGIN:VEVENT
DTSTART;TZID=America/Chicago:20250606T133000
DTEND;TZID=America/Chicago:20250606T140000
DTSTAMP:20260420T181410
CREATED:20250529T232126Z
LAST-MODIFIED:20250605T234905Z
UID:10000577-1749216600-1749218400@reenaseniorliving.com
SUMMARY:Story of Christ reading with volunteer Dorothy
DESCRIPTION:
URL:https://reenaseniorliving.com/event-calendar/story-of-christ-reading-with-volunteer-dorothy/
LOCATION:Pub
CATEGORIES:Assisted Living
END:VEVENT
BEGIN:VEVENT
DTSTART;TZID=America/Chicago:20250602T123000
DTEND;TZID=America/Chicago:20250602T130000
DTSTAMP:20260420T181410
CREATED:20250514T214950Z
LAST-MODIFIED:20250601T233445Z
UID:10000097-1748867400-1748869200@reenaseniorliving.com
SUMMARY:Rosary with Volunteer Dorothy
DESCRIPTION:
URL:https://reenaseniorliving.com/event-calendar/rosary-with-volunteer-dorothy-3/
LOCATION:Pub
CATEGORIES:Assisted Living
END:VEVENT
BEGIN:VEVENT
DTSTART;TZID=America/Chicago:20250528T123000
DTEND;TZID=America/Chicago:20250528T124500
DTSTAMP:20260420T181410
CREATED:20250514T214948Z
LAST-MODIFIED:20250527T230408Z
UID:10000074-1748435400-1748436300@reenaseniorliving.com
SUMMARY:Reading of Agnus Dei with volunteer Dorothy
DESCRIPTION:
URL:https://reenaseniorliving.com/event-calendar/reading-of-agnus-dei-with-volunteer-dorothy/
LOCATION:Pub
CATEGORIES:Assisted Living
END:VEVENT
BEGIN:VEVENT
DTSTART;TZID=America/Chicago:20250526T123000
DTEND;TZID=America/Chicago:20250526T130000
DTSTAMP:20260420T181410
CREATED:20250514T214947Z
LAST-MODIFIED:20250525T225003Z
UID:10000063-1748262600-1748264400@reenaseniorliving.com
SUMMARY:Rosary with Volunteer Dorothy
DESCRIPTION:
URL:https://reenaseniorliving.com/event-calendar/rosary-with-volunteer-dorothy-2/
LOCATION:Pub
CATEGORIES:Assisted Living
END:VEVENT
BEGIN:VEVENT
DTSTART;TZID=America/Chicago:20250519T123000
DTEND;TZID=America/Chicago:20250519T130000
DTSTAMP:20260420T181410
CREATED:20250514T214945Z
LAST-MODIFIED:20250518T214902Z
UID:10000027-1747657800-1747659600@reenaseniorliving.com
SUMMARY:Rosary with Volunteer Dorothy
DESCRIPTION:
URL:https://reenaseniorliving.com/event-calendar/rosary-with-volunteer-dorothy/
LOCATION:Pub
CATEGORIES:Assisted Living
END:VEVENT
END:VCALENDAR