BEGIN:VCALENDAR
VERSION:2.0
PRODID:-//Reena Senior Living - ECPv6.11.2.1//NONSGML v1.0//EN
CALSCALE:GREGORIAN
METHOD:PUBLISH
X-WR-CALNAME:Reena Senior Living
X-ORIGINAL-URL:https://reenaseniorliving.com
X-WR-CALDESC:Events for Reena Senior Living
REFRESH-INTERVAL;VALUE=DURATION:PT1H
X-Robots-Tag:noindex
X-PUBLISHED-TTL:PT1H
BEGIN:VTIMEZONE
TZID:America/Chicago
BEGIN:DAYLIGHT
TZOFFSETFROM:-0600
TZOFFSETTO:-0500
TZNAME:CDT
DTSTART:20250309T080000
END:DAYLIGHT
BEGIN:STANDARD
TZOFFSETFROM:-0500
TZOFFSETTO:-0600
TZNAME:CST
DTSTART:20251102T070000
END:STANDARD
END:VTIMEZONE
BEGIN:VEVENT
DTSTART;TZID=America/Chicago:20251018T190800
DTEND;TZID=America/Chicago:20251018T220800
DTSTAMP:20260421T070427
CREATED:20251014T060527Z
LAST-MODIFIED:20251018T081901Z
UID:10002663-1760814480-1760825280@reenaseniorliving.com
SUMMARY:Brewers Play!
DESCRIPTION:
URL:https://reenaseniorliving.com/event-calendar/brewers-play/
LOCATION:TV
CATEGORIES:Assisted Living,Legacy Court
END:VEVENT
BEGIN:VEVENT
DTSTART;TZID=America/Chicago:20251016T170800
DTEND;TZID=America/Chicago:20251016T200800
DTSTAMP:20260421T070427
CREATED:20251014T060515Z
LAST-MODIFIED:20251016T081903Z
UID:10002661-1760634480-1760645280@reenaseniorliving.com
SUMMARY:Brewers play LA Dodgers
DESCRIPTION:
URL:https://reenaseniorliving.com/event-calendar/brewers-play-la-dodgers/
LOCATION:TV
CATEGORIES:Assisted Living,Legacy Court
END:VEVENT
BEGIN:VEVENT
DTSTART;TZID=America/Chicago:20251014T190500
DTEND;TZID=America/Chicago:20251014T220500
DTSTAMP:20260421T070427
CREATED:20251014T060450Z
LAST-MODIFIED:20251014T080451Z
UID:10002660-1760468700-1760479500@reenaseniorliving.com
SUMMARY:Brewers Play LA Dodger at 7:08pm
DESCRIPTION:
URL:https://reenaseniorliving.com/event-calendar/brewers-play-la-dodger-at-708pm/
LOCATION:TV
CATEGORIES:Assisted Living,Legacy Court
END:VEVENT
BEGIN:VEVENT
DTSTART;TZID=America/Chicago:20250912T190000
DTEND;TZID=America/Chicago:20250912T210000
DTSTAMP:20260421T070427
CREATED:20250906T050405Z
LAST-MODIFIED:20250912T050405Z
UID:10002068-1757703600-1757710800@reenaseniorliving.com
SUMMARY:Brewers vs. Cardinals
DESCRIPTION:
URL:https://reenaseniorliving.com/event-calendar/brewers-vs-cardinals/
LOCATION:TV
CATEGORIES:Legacy Court
END:VEVENT
BEGIN:VEVENT
DTSTART;TZID=America/Chicago:20250823T150000
DTEND;TZID=America/Chicago:20250823T180000
DTSTAMP:20260421T070427
CREATED:20250816T040405Z
LAST-MODIFIED:20250823T061935Z
UID:10001796-1755961200-1755972000@reenaseniorliving.com
SUMMARY:Packers vs. Seattle Seahawks
DESCRIPTION:
URL:https://reenaseniorliving.com/event-calendar/packers-vs-seattle-seahawks/
LOCATION:TV
CATEGORIES:Assisted Living,Legacy Court
END:VEVENT
BEGIN:VEVENT
DTSTART;TZID=America/Chicago:20250820T190500
DTEND;TZID=America/Chicago:20250820T220500
DTSTAMP:20260421T070427
CREATED:20250816T040404Z
LAST-MODIFIED:20250820T061903Z
UID:10001794-1755716700-1755727500@reenaseniorliving.com
SUMMARY:Brewers vs. Chicago Cubs
DESCRIPTION:
URL:https://reenaseniorliving.com/event-calendar/brewers-vs-chicago-cubs-2/
LOCATION:TV
CATEGORIES:Assisted Living,Legacy Court
END:VEVENT
BEGIN:VEVENT
DTSTART;TZID=America/Chicago:20250818T190500
DTEND;TZID=America/Chicago:20250818T230500
DTSTAMP:20260421T070427
CREATED:20250816T040403Z
LAST-MODIFIED:20250818T061924Z
UID:10001792-1755543900-1755558300@reenaseniorliving.com
SUMMARY:Brewers vs. Chicago Cubs
DESCRIPTION:
URL:https://reenaseniorliving.com/event-calendar/brewers-vs-chicago-cubs/
LOCATION:TV
CATEGORIES:Assisted Living,Legacy Court
END:VEVENT
BEGIN:VEVENT
DTSTART;TZID=America/Chicago:20250817T134000
DTEND;TZID=America/Chicago:20250817T164000
DTSTAMP:20260421T070427
CREATED:20250816T040402Z
LAST-MODIFIED:20250817T061923Z
UID:10001791-1755438000-1755448800@reenaseniorliving.com
SUMMARY:Brewers vs. Cincinnati Reds
DESCRIPTION:
URL:https://reenaseniorliving.com/event-calendar/brewers-vs-cincinnati-reds/
LOCATION:TV
CATEGORIES:Assisted Living,Legacy Court
END:VEVENT
BEGIN:VEVENT
DTSTART;TZID=America/Chicago:20250802T150500
DTEND;TZID=America/Chicago:20250802T180500
DTSTAMP:20260421T070427
CREATED:20250725T033431Z
LAST-MODIFIED:20250802T034925Z
UID:10001462-1754147100-1754157900@reenaseniorliving.com
SUMMARY:Brewers vs Nationals at 3:05pm
DESCRIPTION:
URL:https://reenaseniorliving.com/event-calendar/brewers-vs-nationals-at-305pm/
LOCATION:TV
CATEGORIES:Legacy Court
END:VEVENT
BEGIN:VEVENT
DTSTART;TZID=America/Chicago:20250801T174500
DTEND;TZID=America/Chicago:20250801T210000
DTSTAMP:20260421T070427
CREATED:20250725T033430Z
LAST-MODIFIED:20250801T034921Z
UID:10001461-1754070300-1754082000@reenaseniorliving.com
SUMMARY:Brewers vs Nationals at 5:45pm
DESCRIPTION:
URL:https://reenaseniorliving.com/event-calendar/brewers-vs-nationals-at-545pm/
LOCATION:TV
CATEGORIES:Legacy Court
END:VEVENT
BEGIN:VEVENT
DTSTART;TZID=America/Chicago:20250727T133000
DTEND;TZID=America/Chicago:20250727T163000
DTSTAMP:20260421T070427
CREATED:20250725T033428Z
LAST-MODIFIED:20250727T033428Z
UID:10001452-1753623000-1753633800@reenaseniorliving.com
SUMMARY:Marlins vs Brewers at 1:10 PM
DESCRIPTION:
URL:https://reenaseniorliving.com/event-calendar/marlins-vs-brewers-at-110-pm/
LOCATION:TV
CATEGORIES:Legacy Court
END:VEVENT
END:VCALENDAR